BEGIN:VCALENDAR
VERSION:2.0
PRODID:-//Aachen-Termine - ECPv6.15.18//NONSGML v1.0//EN
CALSCALE:GREGORIAN
METHOD:PUBLISH
X-WR-CALNAME:Aachen-Termine
X-ORIGINAL-URL:https://aachen-kalender.de
X-WR-CALDESC:Veranstaltungen für Aachen-Termine
REFRESH-INTERVAL;VALUE=DURATION:PT1H
X-Robots-Tag:noindex
X-PUBLISHED-TTL:PT1H
BEGIN:VTIMEZONE
TZID:Europe/Berlin
BEGIN:DAYLIGHT
TZOFFSETFROM:+0100
TZOFFSETTO:+0200
TZNAME:CEST
DTSTART:20240331T010000
END:DAYLIGHT
BEGIN:STANDARD
TZOFFSETFROM:+0200
TZOFFSETTO:+0100
TZNAME:CET
DTSTART:20241027T010000
END:STANDARD
BEGIN:DAYLIGHT
TZOFFSETFROM:+0100
TZOFFSETTO:+0200
TZNAME:CEST
DTSTART:20250330T010000
END:DAYLIGHT
BEGIN:STANDARD
TZOFFSETFROM:+0200
TZOFFSETTO:+0100
TZNAME:CET
DTSTART:20251026T010000
END:STANDARD
BEGIN:DAYLIGHT
TZOFFSETFROM:+0100
TZOFFSETTO:+0200
TZNAME:CEST
DTSTART:20260329T010000
END:DAYLIGHT
BEGIN:STANDARD
TZOFFSETFROM:+0200
TZOFFSETTO:+0100
TZNAME:CET
DTSTART:20261025T010000
END:STANDARD
END:VTIMEZONE
BEGIN:VEVENT
DTSTART;TZID=Europe/Berlin:20250826T200000
DTEND;TZID=Europe/Berlin:20250826T200000
DTSTAMP:20260425T125034
CREATED:20250715T130840Z
LAST-MODIFIED:20250721T125705Z
UID:27423-1756238400-1756238400@aachen-kalender.de
SUMMARY:Kurpark Classix. "MoTrip".
DESCRIPTION:Für MoTrip schließt sich ein Kreis: Nur wenige Meter von seinem Aachener Elternhaus entfernt\, bringt der gefeierte Rapper seine Musik auf die Kurpark-Classix-Bühne – mit neuen Songs\, alten Favoriten und prominenten Gästen. Mit Hits wie So wie du bist und Mama hat sich MoTrip als feinfühliger Wortkünstler etabliert. Nach Jahren als Kollaborateur\, Songwriter und Live-Performer kehrt er mit frischer Musik zurück. \n\nTickets und Infos unter www.kurparkclassix.de
URL:https://aachen-kalender.de/event/kurpark-classix-motrip/
LOCATION:Kurpark\, Monheimsallee 40\, Aachen\, 52062\, Deutschland
CATEGORIES:Musik
ATTACH;FMTTYPE=image/jpeg:https://aachen-kalender.de/wp-content/uploads/2025/07/MoTrip-e1752584906687.jpg
END:VEVENT
END:VCALENDAR