BEGIN:VCALENDAR
VERSION:2.0
PRODID:-//Aachen-Termine - ECPv6.15.18//NONSGML v1.0//EN
CALSCALE:GREGORIAN
METHOD:PUBLISH
X-WR-CALNAME:Aachen-Termine
X-ORIGINAL-URL:https://aachen-kalender.de
X-WR-CALDESC:Veranstaltungen für Aachen-Termine
REFRESH-INTERVAL;VALUE=DURATION:PT1H
X-Robots-Tag:noindex
X-PUBLISHED-TTL:PT1H
BEGIN:VTIMEZONE
TZID:Europe/Berlin
BEGIN:DAYLIGHT
TZOFFSETFROM:+0100
TZOFFSETTO:+0200
TZNAME:CEST
DTSTART:20250330T010000
END:DAYLIGHT
BEGIN:STANDARD
TZOFFSETFROM:+0200
TZOFFSETTO:+0100
TZNAME:CET
DTSTART:20251026T010000
END:STANDARD
BEGIN:DAYLIGHT
TZOFFSETFROM:+0100
TZOFFSETTO:+0200
TZNAME:CEST
DTSTART:20260329T010000
END:DAYLIGHT
BEGIN:STANDARD
TZOFFSETFROM:+0200
TZOFFSETTO:+0100
TZNAME:CET
DTSTART:20261025T010000
END:STANDARD
BEGIN:DAYLIGHT
TZOFFSETFROM:+0100
TZOFFSETTO:+0200
TZNAME:CEST
DTSTART:20270328T010000
END:DAYLIGHT
BEGIN:STANDARD
TZOFFSETFROM:+0200
TZOFFSETTO:+0100
TZNAME:CET
DTSTART:20271031T010000
END:STANDARD
END:VTIMEZONE
BEGIN:VEVENT
DTSTART;TZID=Europe/Berlin:20260509T120000
DTEND;TZID=Europe/Berlin:20260509T170000
DTSTAMP:20260423T135928
CREATED:20260408T113532Z
LAST-MODIFIED:20260421T124252Z
UID:10022098-1778328000-1778346000@aachen-kalender.de
SUMMARY:Kunst und Handwerk in der Annastraße.
DESCRIPTION:Die Annastraße wird am Freitag\, 8. Mai\, von 14 bis 18.30 Uhr und am Samstag\, 9. Mai\, von 12 bis 17 Uhr zur lebendigen Bühne für Kreativität und Handwerk: Im Rahmen des von der Stadt Aachen geförderten Fonds Oecher Perlen präsentieren die ansässigen Geschäfte die Vielfalt ihres Angebots und machen Kunst und Handwerk unmittelbar erlebbar. Ob Ausstellungen\, Mitmach­aktionen oder Einblicke in traditionelle und moderne Techniken: Besucherinnen und Besucher können entdecken\, ausprobieren und ins Gespräch kommen. Von Mode und Schmuck über Kunst bis hin zu kulinarischen Angeboten entsteht ein abwechslungsreicher Parcours durch die Straße\, bei dem jedes Geschäft seine eigene Handschrift einbringt. Ergänzt wird das Programm durch künstlerische Beiträge von Musik bis Tanz. Ein Wochenende\, das die Annastraße als Ort von Vielfalt und Begegnung zeigt. Mehr auf Instagram: annastrasse.aachen.
URL:https://aachen-kalender.de/event/kunst-und-handwerk-in-der-annastrasse/2026-05-09/
LOCATION:Annastraße\, Aachen\, 52062
CATEGORIES:Sonstiges
ATTACH;FMTTYPE=image/jpeg:https://aachen-kalender.de/wp-content/uploads/2026/04/8Mai_Annastrasse.jpg
END:VEVENT
END:VCALENDAR