BEGIN:VCALENDAR
VERSION:2.0
PRODID:-//Aachen-Termine - ECPv6.15.18//NONSGML v1.0//EN
CALSCALE:GREGORIAN
METHOD:PUBLISH
X-WR-CALNAME:Aachen-Termine
X-ORIGINAL-URL:https://aachen-kalender.de
X-WR-CALDESC:Veranstaltungen für Aachen-Termine
REFRESH-INTERVAL;VALUE=DURATION:PT1H
X-Robots-Tag:noindex
X-PUBLISHED-TTL:PT1H
BEGIN:VTIMEZONE
TZID:Europe/Berlin
BEGIN:DAYLIGHT
TZOFFSETFROM:+0100
TZOFFSETTO:+0200
TZNAME:CEST
DTSTART:20250330T010000
END:DAYLIGHT
BEGIN:STANDARD
TZOFFSETFROM:+0200
TZOFFSETTO:+0100
TZNAME:CET
DTSTART:20251026T010000
END:STANDARD
BEGIN:DAYLIGHT
TZOFFSETFROM:+0100
TZOFFSETTO:+0200
TZNAME:CEST
DTSTART:20260329T010000
END:DAYLIGHT
BEGIN:STANDARD
TZOFFSETFROM:+0200
TZOFFSETTO:+0100
TZNAME:CET
DTSTART:20261025T010000
END:STANDARD
BEGIN:DAYLIGHT
TZOFFSETFROM:+0100
TZOFFSETTO:+0200
TZNAME:CEST
DTSTART:20270328T010000
END:DAYLIGHT
BEGIN:STANDARD
TZOFFSETFROM:+0200
TZOFFSETTO:+0100
TZNAME:CET
DTSTART:20271031T010000
END:STANDARD
END:VTIMEZONE
BEGIN:VEVENT
DTSTART;TZID=Europe/Berlin:20260130T193000
DTEND;TZID=Europe/Berlin:20260130T220000
DTSTAMP:20260423T165905
CREATED:20260112T131738Z
LAST-MODIFIED:20260112T132104Z
UID:10019718-1769801400-1769810400@aachen-kalender.de
SUMMARY:Konzert des Aachener Studentenorchesters. "Richard Wagner\, Piotr Iljitsch Tschaikowski und Gustav Mahler".
DESCRIPTION:Das Aachener Studentenorchester e.V. wurde im Frühjahr 1989 durch studentische Eigeninitiative als gemeinnütziger Verein gegründet. Wir sind ca. 90 Studierende aus Aachen\, die in ihrer Freizeit musizieren. Als Ausgleich zum Studienalltag treffen sie sich einmal in der Woche\, um dem gemeinsamen Hobby\, der Musik\, nachzugehen. Zu hören gibt es: Richard Wagner: Overture aus „Die Meistersinger von Nürnberg“\, Piotr Iljitsch Tschaikowski: Suite op. 20a\, „Schwanensee“\, Gustav Mahler: Sinfonie Nr. 1. \n  \n\nDetails zum Kartenverkauf: Die Tickets kosten 15\,00 EUR und ermäßigt (Kinder\, Schüler\, Bundesfreiwillige/FSJ\, Azubis\, Studierende\, Personen mit Behinderung) 8\,00 EUR und können online (https://www.aso.rwth-aachen.de/konzerte/kartenverkauf/) auf der Webseite und an der Abendkasse erworben werden.
URL:https://aachen-kalender.de/event/konzert-des-aachener-studentenorchesters-richard-wagner-piotr-iljitsch-tschaikowski-und-gustav-mahler/2026-01-30/
LOCATION:DAS LIEBIG\, Liebigstraße 19\, Aachen\, 52070\, Deutschland
CATEGORIES:Musik
ATTACH;FMTTYPE=image/jpeg:https://aachen-kalender.de/wp-content/uploads/2026/01/6964da3d88c1a-8EEbgs-e1768223822556.jpg
END:VEVENT
END:VCALENDAR