BEGIN:VCALENDAR
VERSION:2.0
PRODID:-//Aachen-Termine - ECPv6.15.18//NONSGML v1.0//EN
CALSCALE:GREGORIAN
METHOD:PUBLISH
X-WR-CALNAME:Aachen-Termine
X-ORIGINAL-URL:https://aachen-kalender.de
X-WR-CALDESC:Veranstaltungen für Aachen-Termine
REFRESH-INTERVAL;VALUE=DURATION:PT1H
X-Robots-Tag:noindex
X-PUBLISHED-TTL:PT1H
BEGIN:VTIMEZONE
TZID:Europe/Berlin
BEGIN:DAYLIGHT
TZOFFSETFROM:+0100
TZOFFSETTO:+0200
TZNAME:CEST
DTSTART:20240331T010000
END:DAYLIGHT
BEGIN:STANDARD
TZOFFSETFROM:+0200
TZOFFSETTO:+0100
TZNAME:CET
DTSTART:20241027T010000
END:STANDARD
BEGIN:DAYLIGHT
TZOFFSETFROM:+0100
TZOFFSETTO:+0200
TZNAME:CEST
DTSTART:20250330T010000
END:DAYLIGHT
BEGIN:STANDARD
TZOFFSETFROM:+0200
TZOFFSETTO:+0100
TZNAME:CET
DTSTART:20251026T010000
END:STANDARD
BEGIN:DAYLIGHT
TZOFFSETFROM:+0100
TZOFFSETTO:+0200
TZNAME:CEST
DTSTART:20260329T010000
END:DAYLIGHT
BEGIN:STANDARD
TZOFFSETFROM:+0200
TZOFFSETTO:+0100
TZNAME:CET
DTSTART:20261025T010000
END:STANDARD
END:VTIMEZONE
BEGIN:VEVENT
DTSTART;TZID=Europe/Berlin:20250827T203000
DTEND;TZID=Europe/Berlin:20250827T203000
DTSTAMP:20260425T142535
CREATED:20250626T130007Z
LAST-MODIFIED:20250626T130441Z
UID:26392-1756326600-1756326600@aachen-kalender.de
SUMMARY:Kino unter Sternen. "Für immer hier".
DESCRIPTION:Seit drei Jahren hat sich die Burg Frankenberg mit ihrer intimen Atmosphäre als ganz besonderer Ort des Sommerkinos etabliert. Im vergangenen Jahr waren fast alle Vorstellungen ausverkauft! Gemeinsam mit Apollo Kino Aachen wird der Hof der Burg wieder in eins der schönsten Open-Air-Kinos verwandelt\, ab diesem Jahr mit einer noch besseren Projektionstechnik und einer vergrößerten Leinwand. \nAn zehn aufeinanderfolgenden Abenden werden wieder zehn verschiedene Kinofilme präsentiert. \nFilmstart ist in Abhängigkeit vom Sonnenuntergang zunächst um 21:00 Uhr\, ab dem 23.8. 20:45 Uhr und ab dem 26.8. 20:30 Uhr. So können längere Filme angeboten werden. Einlass ist jeweils 60 Minuten vorher. Für Getränke und Popcorn ist gesorgt. \nTickets zum Preis von zwölf Euro gibt es online unter den unten aufgeführten Links „Tickets“ auf der Homepage des Veranstalters und im Vorverkauf direkt im \nFrankenberger Buchladen\nSchlossstraße 12 \noder \nApollo Kino\nPontstraße 141-149 \nRestkarten an der Abendkasse.
URL:https://aachen-kalender.de/event/kino-unter-sternen-fuer-immer-hier/
LOCATION:Burg Frankenberg\, Goffartstraße 45\, Aachen\, 52066\, Deutschland
CATEGORIES:Sonstiges
END:VEVENT
END:VCALENDAR