BEGIN:VCALENDAR
VERSION:2.0
PRODID:-//Aachen-Termine - ECPv6.15.18//NONSGML v1.0//EN
CALSCALE:GREGORIAN
METHOD:PUBLISH
X-WR-CALNAME:Aachen-Termine
X-ORIGINAL-URL:https://aachen-kalender.de
X-WR-CALDESC:Veranstaltungen für Aachen-Termine
REFRESH-INTERVAL;VALUE=DURATION:PT1H
X-Robots-Tag:noindex
X-PUBLISHED-TTL:PT1H
BEGIN:VTIMEZONE
TZID:Europe/Berlin
BEGIN:DAYLIGHT
TZOFFSETFROM:+0100
TZOFFSETTO:+0200
TZNAME:CEST
DTSTART:20240331T010000
END:DAYLIGHT
BEGIN:STANDARD
TZOFFSETFROM:+0200
TZOFFSETTO:+0100
TZNAME:CET
DTSTART:20241027T010000
END:STANDARD
BEGIN:DAYLIGHT
TZOFFSETFROM:+0100
TZOFFSETTO:+0200
TZNAME:CEST
DTSTART:20250330T010000
END:DAYLIGHT
BEGIN:STANDARD
TZOFFSETFROM:+0200
TZOFFSETTO:+0100
TZNAME:CET
DTSTART:20251026T010000
END:STANDARD
BEGIN:DAYLIGHT
TZOFFSETFROM:+0100
TZOFFSETTO:+0200
TZNAME:CEST
DTSTART:20260329T010000
END:DAYLIGHT
BEGIN:STANDARD
TZOFFSETFROM:+0200
TZOFFSETTO:+0100
TZNAME:CET
DTSTART:20261025T010000
END:STANDARD
END:VTIMEZONE
BEGIN:VEVENT
DTSTART;TZID=Europe/Berlin:20250528T141500
DTEND;TZID=Europe/Berlin:20250528T141500
DTSTAMP:20260423T165713
CREATED:20250411T101433Z
LAST-MODIFIED:20250411T101501Z
UID:23019-1748441700-1748441700@aachen-kalender.de
SUMMARY:Karlspreisträgerin an der RWTH Aachen Dr. Ursula von der Leyen.
DESCRIPTION:Die Präsidentin der Europäischen Kommission – Ursula von der Leyen – wird in diesem Jahr mit dem Internationalen Karlspreis zu Aachen ausgezeichnet. Der Tradition entsprechend besucht sie am Vortag der Preisverleihung die RWTH Aachen\, um mit Studierenden über europäische Themen zu diskutieren. \n  \n\nEintritt frei\nAnmeldung unter: https://www.rwth-aachen.de/cms/root/Die-RWTH/Aktuell/Veranstaltungen/~bmkcqx/Die-Karlspreistraegerin-2025-an-der-RWTH/
URL:https://aachen-kalender.de/event/karlspreistraegerin-an-der-rwth-aachen-dr-ursula-von-der-leyen/
LOCATION:Aula 1\, RWTH-Hauptgebäude\, Templergraben 55\, Aachen\, 52062
CATEGORIES:Lesung/Vortrag
END:VEVENT
END:VCALENDAR