BEGIN:VCALENDAR
VERSION:2.0
PRODID:-//Aachen-Termine - ECPv6.15.18//NONSGML v1.0//EN
CALSCALE:GREGORIAN
METHOD:PUBLISH
X-WR-CALNAME:Aachen-Termine
X-ORIGINAL-URL:https://aachen-kalender.de
X-WR-CALDESC:Veranstaltungen für Aachen-Termine
REFRESH-INTERVAL;VALUE=DURATION:PT1H
X-Robots-Tag:noindex
X-PUBLISHED-TTL:PT1H
BEGIN:VTIMEZONE
TZID:Europe/Berlin
BEGIN:DAYLIGHT
TZOFFSETFROM:+0100
TZOFFSETTO:+0200
TZNAME:CEST
DTSTART:20250330T010000
END:DAYLIGHT
BEGIN:STANDARD
TZOFFSETFROM:+0200
TZOFFSETTO:+0100
TZNAME:CET
DTSTART:20251026T010000
END:STANDARD
BEGIN:DAYLIGHT
TZOFFSETFROM:+0100
TZOFFSETTO:+0200
TZNAME:CEST
DTSTART:20260329T010000
END:DAYLIGHT
BEGIN:STANDARD
TZOFFSETFROM:+0200
TZOFFSETTO:+0100
TZNAME:CET
DTSTART:20261025T010000
END:STANDARD
BEGIN:DAYLIGHT
TZOFFSETFROM:+0100
TZOFFSETTO:+0200
TZNAME:CEST
DTSTART:20270328T010000
END:DAYLIGHT
BEGIN:STANDARD
TZOFFSETFROM:+0200
TZOFFSETTO:+0100
TZNAME:CET
DTSTART:20271031T010000
END:STANDARD
END:VTIMEZONE
BEGIN:VEVENT
DTSTART;TZID=Europe/Berlin:20260122T200000
DTEND;TZID=Europe/Berlin:20260122T200000
DTSTAMP:20260420T155404
CREATED:20250917T130523Z
LAST-MODIFIED:20250917T130523Z
UID:33435-1769112000-1769112000@aachen-kalender.de
SUMMARY:Johann König. "Wer Pläne macht\, wird ausgelacht!"
DESCRIPTION:Kühl in der Analyse\, warm in der Poesie\, heiß in der Darbietung – Johann Königs neuestes Soloprogramm verspricht wieder einmal abwechslungsreiche Unterhaltung. Am Donnerstag\, 22. Januar 2026\, präsentiert der Ausnahme-Komiker sein aktuelles Bühnenstück „Wer Pläne macht\, wird ausgelacht“ erneut im Eurogress Aachen. \nJohann König zog es eigentlich nie auf die Bühne. Er wollte Lehrer werden. Sportlehrer für Biologie und Sachkunde. Das war der Plan. Doch dieser Plan ging nicht auf. Nach 19 Semestern zwangen ihn die Zuschauer mit ihrer Zuneigung und ihrem Geld dazu\, sich ganz dem Humor zu widmen. So geriet er geradewegs auf die schiefe Bahn der gepflegten Abendunterhaltung\, von der es kein Zurück gibt. Und heute? Heute lacht er darüber – wie das Publikum über ihn. \nÜber 50 Jahre alt ist der Kerl\, die depressive Stimmungskanone\, nun. Viele sehen mit 50 jünger aus\, fühlen sich aber älter. Beim König ist es genau umgekehrt. Viele denken mit 50\, sie müssten alles ändern. Oder alles gendern. Johann macht alles neu UND bleibt sich treu. Viele fangen in diesem Alter an mit Eierlikör. Johann hat Hühner. \nIn seinem aktuellen Programm stellt er die drängenden Fragen der Zeit: Wird das Haus wirklich kleiner\, wenn die Kinder größer werden? Wie gendert man ein herrenloses Damenfahrrad? Gilt das Limit fürs Tempo auch für Taschentücher? Und darf man „was darf man eigentlich noch sagen?“ noch sagen? \nLangfristig sind die Vorhaben am besten\, die kurzfristig sind. Der Plan sollte sein\, keine Pläne mehr zu machen. Außer natürlich einen umfassenden Tour-Plan. \n\nTickets sind erhältlich im Kartenhaus Würselen und Alsdorf\, bei allen bekannten Vorverkaufsstellen\, telefonisch unter 0 24 05/40 8 60 oder online unter\nwww.meyer-konzerte.de.
URL:https://aachen-kalender.de/event/johann-koenig-wer-plaene-macht-wird-ausgelacht-3/
LOCATION:Eurogress Aachen\, Monheimsallee 48\, Aachen\, 52062
CATEGORIES:Kleinkunst
ATTACH;FMTTYPE=image/jpeg:https://aachen-kalender.de/wp-content/uploads/2025/09/Presse-Foto-Johann-Koenig-3_QUER_kl-Credit-Marcus_Mueller_Saran-scaled-e1758114313769.jpeg
END:VEVENT
END:VCALENDAR