BEGIN:VCALENDAR
VERSION:2.0
PRODID:-//Aachen-Termine - ECPv6.15.18//NONSGML v1.0//EN
CALSCALE:GREGORIAN
METHOD:PUBLISH
X-WR-CALNAME:Aachen-Termine
X-ORIGINAL-URL:https://aachen-kalender.de
X-WR-CALDESC:Veranstaltungen für Aachen-Termine
REFRESH-INTERVAL;VALUE=DURATION:PT1H
X-Robots-Tag:noindex
X-PUBLISHED-TTL:PT1H
BEGIN:VTIMEZONE
TZID:Europe/Berlin
BEGIN:DAYLIGHT
TZOFFSETFROM:+0100
TZOFFSETTO:+0200
TZNAME:CEST
DTSTART:20250330T010000
END:DAYLIGHT
BEGIN:STANDARD
TZOFFSETFROM:+0200
TZOFFSETTO:+0100
TZNAME:CET
DTSTART:20251026T010000
END:STANDARD
BEGIN:DAYLIGHT
TZOFFSETFROM:+0100
TZOFFSETTO:+0200
TZNAME:CEST
DTSTART:20260329T010000
END:DAYLIGHT
BEGIN:STANDARD
TZOFFSETFROM:+0200
TZOFFSETTO:+0100
TZNAME:CET
DTSTART:20261025T010000
END:STANDARD
BEGIN:DAYLIGHT
TZOFFSETFROM:+0100
TZOFFSETTO:+0200
TZNAME:CEST
DTSTART:20270328T010000
END:DAYLIGHT
BEGIN:STANDARD
TZOFFSETFROM:+0200
TZOFFSETTO:+0100
TZNAME:CET
DTSTART:20271031T010000
END:STANDARD
END:VTIMEZONE
BEGIN:VEVENT
DTSTART;TZID=Europe/Berlin:20260517T100000
DTEND;TZID=Europe/Berlin:20260517T170000
DTSTAMP:20260423T151745
CREATED:20260408T081154Z
LAST-MODIFIED:20260408T081231Z
UID:56591-1779012000-1779037200@aachen-kalender.de
SUMMARY:Internationaler Museumstag im Couven Museum.
DESCRIPTION:Programm bei kostenfreiem Eintritt \n10.00 – 17.00 Uhr \nPinnwandaktion: Was können Museen machen\, um Menschen zu verbinden? \nIhre Ideen sind gefragt. \n  \n10.00 – 17.00 Uhr \nKinderrallye – Entdecken Sie mit Ihren Kindern das Couven Museum! \nEs winken kleine Preise. \n  \n11.15 Uhr \nDie Welt in einer Tasse! Der Wandel des Frühstücks \nEin Rundgang durch das Couven Museum \nMit Georg Tilger \nEin etwas rätselhafter Titel – aber Rätsel sind immer spannend! Bei unserer Hausführung erhalten Sie spannende Einblicke in das Leben vergangener Zeiten\, lernen die Geschichte des Hauses kennen und erleben mit wertvollen Möbeln\, Kunsthandwerk und Alltagsgegenständen eingerichtete Räume. Die Führung richtet sich an alle\, die sich für Geschichte\, Architektur und das bürgerliche Leben früherer Jahrhunderte interessieren. \n  \n12.00 Uhr \nEin Haus erwacht zum Leben \nFamilienführung mit Julia Samp  \nFunkelnde Kronleuchter und dunkle Ecken\, knarrende Fußböden und tickende Uhren\, Gerüche von Gewürzen und Kräutern und viele\, viele Treppenstufen rauf und runter – wir gehen gemeinsam im Couven Museum auf eine Zeitreise und erkunden das Haus\, seine Möbel und die Ausstattung mit all unseren Sinnen: Wie viel vom Damals steckt noch im Heute? Was finden wir aus unserem Alltag im Jahr 2026 wieder und was hat sich verändert? \n  \n13.00 Uhr \nWas trennt und was verbindet uns im Alltag? \nEin Rundgang durch das Damals und das Heute mit Dr. Monika Haas \nDas Couven Museum lädt dazu ein\, Alltagsleben vergangener Jahrhunderte mit unserer heutigen Lebensweise zu vergleichen. Bei dem Rundgang entdecken Sie\, wie Menschen früher gewohnt\, gearbeitet und ihren Alltag gestaltet haben. Dabei wird sichtbar\, was sich im Laufe der Zeit verändert hat – und was uns bis heute verbindet. Historische Räume\, Möbel und Gebrauchsgegenstände erzählen anschaulich von Gewohnheiten und Bedürfnissen früherer Generationen. Lassen Sie sich inspirieren\, Gemeinsamkeiten und Unterschiede neu zu entdecken. \n  \n15.00 Uhr \nSalon versus Küche – \nHerrschaft und Bedienstete im bürgerlichen Alltag um 1800 \nEin Rundgang mit Dr. Monika Haas \nIm Couven Museum eröffnet sich ein spannender Blick hinter die Kulissen bürgerlicher Haushalte um 1800. Die Führung beleuchtet das Zusammenspiel von repräsentativen Wohnräumen wie dem Salon und den funktionalen Bereichen der Bediensteten. Dabei wird deutlich\, wie stark der Alltag von sozialen Strukturen und klaren Rollenverteilungen geprägt war. Anhand originalgetreu eingerichteter Räume lassen sich Arbeits- und Lebenswelten unmittelbar nachvollziehen. Entdecken Sie\, wie Nähe und Distanz\, Sichtbarkeit und Verborgenes das häusliche Leben bestimmten. \n 
URL:https://aachen-kalender.de/event/internationaler-museumstag-im-couven-museum-2/
LOCATION:Couven Museum\, Hühnermarkt 17\, Aachen\, 52062\, Deutschland
CATEGORIES:Führungen
END:VEVENT
END:VCALENDAR