BEGIN:VCALENDAR
VERSION:2.0
PRODID:-//Aachen-Termine - ECPv6.15.18//NONSGML v1.0//EN
CALSCALE:GREGORIAN
METHOD:PUBLISH
X-WR-CALNAME:Aachen-Termine
X-ORIGINAL-URL:https://aachen-kalender.de
X-WR-CALDESC:Veranstaltungen für Aachen-Termine
REFRESH-INTERVAL;VALUE=DURATION:PT1H
X-Robots-Tag:noindex
X-PUBLISHED-TTL:PT1H
BEGIN:VTIMEZONE
TZID:Europe/Berlin
BEGIN:DAYLIGHT
TZOFFSETFROM:+0100
TZOFFSETTO:+0200
TZNAME:CEST
DTSTART:20240331T010000
END:DAYLIGHT
BEGIN:STANDARD
TZOFFSETFROM:+0200
TZOFFSETTO:+0100
TZNAME:CET
DTSTART:20241027T010000
END:STANDARD
BEGIN:DAYLIGHT
TZOFFSETFROM:+0100
TZOFFSETTO:+0200
TZNAME:CEST
DTSTART:20250330T010000
END:DAYLIGHT
BEGIN:STANDARD
TZOFFSETFROM:+0200
TZOFFSETTO:+0100
TZNAME:CET
DTSTART:20251026T010000
END:STANDARD
BEGIN:DAYLIGHT
TZOFFSETFROM:+0100
TZOFFSETTO:+0200
TZNAME:CEST
DTSTART:20260329T010000
END:DAYLIGHT
BEGIN:STANDARD
TZOFFSETFROM:+0200
TZOFFSETTO:+0100
TZNAME:CET
DTSTART:20261025T010000
END:STANDARD
END:VTIMEZONE
BEGIN:VEVENT
DTSTART;TZID=Europe/Berlin:20250803T103000
DTEND;TZID=Europe/Berlin:20250803T103000
DTSTAMP:20260423T151431
CREATED:20250708T092420Z
LAST-MODIFIED:20250708T092420Z
UID:10014092-1754217000-1754217000@aachen-kalender.de
SUMMARY:Heike Albert. "Lachyoga".
DESCRIPTION:In rund 120 Ländern der Welt wird Lachyoga in Parks\, am Strand und in Räumen durchgeführt. Lachyoga ist für alle\, die diese spielerische\, befreiende und damit entspannende und gleichzeitig kraftspendende Yogavariante gern kennenlernen und praktizieren möchten. \nKeine Vorkenntnisse und keine Ausrüstung nötig. Durchführbar von offenen\, neugierigen Menschen jeden Alters. Kommt gern vorbei und lacht mit! \nKursleitung: Heike Albert zertifizierte Lachyogalehrerin und Lachtelefonistin. \n 
URL:https://aachen-kalender.de/event/heike-albert-lachyoga-8/2025-08-03/
LOCATION:Gut Branderhof\, Branderhofer Weg 55\, Aachen\, 52066\, Deutschland
CATEGORIES:Sonstiges
END:VEVENT
END:VCALENDAR