BEGIN:VCALENDAR
VERSION:2.0
PRODID:-//Aachen-Termine - ECPv6.15.18//NONSGML v1.0//EN
CALSCALE:GREGORIAN
METHOD:PUBLISH
X-WR-CALNAME:Aachen-Termine
X-ORIGINAL-URL:https://aachen-kalender.de
X-WR-CALDESC:Veranstaltungen für Aachen-Termine
REFRESH-INTERVAL;VALUE=DURATION:PT1H
X-Robots-Tag:noindex
X-PUBLISHED-TTL:PT1H
BEGIN:VTIMEZONE
TZID:Europe/Berlin
BEGIN:DAYLIGHT
TZOFFSETFROM:+0100
TZOFFSETTO:+0200
TZNAME:CEST
DTSTART:20240331T010000
END:DAYLIGHT
BEGIN:STANDARD
TZOFFSETFROM:+0200
TZOFFSETTO:+0100
TZNAME:CET
DTSTART:20241027T010000
END:STANDARD
BEGIN:DAYLIGHT
TZOFFSETFROM:+0100
TZOFFSETTO:+0200
TZNAME:CEST
DTSTART:20250330T010000
END:DAYLIGHT
BEGIN:STANDARD
TZOFFSETFROM:+0200
TZOFFSETTO:+0100
TZNAME:CET
DTSTART:20251026T010000
END:STANDARD
BEGIN:DAYLIGHT
TZOFFSETFROM:+0100
TZOFFSETTO:+0200
TZNAME:CEST
DTSTART:20260329T010000
END:DAYLIGHT
BEGIN:STANDARD
TZOFFSETFROM:+0200
TZOFFSETTO:+0100
TZNAME:CET
DTSTART:20261025T010000
END:STANDARD
END:VTIMEZONE
BEGIN:VEVENT
DTSTART;TZID=Europe/Berlin:20250622T170000
DTEND;TZID=Europe/Berlin:20250622T170000
DTSTAMP:20260425T124612
CREATED:20250505T083044Z
LAST-MODIFIED:20250505T083110Z
UID:10012383-1750611600-1750611600@aachen-kalender.de
SUMMARY:"Grenzenlos". Gemeinschaftskonzert der Bläserphilharmonie Aachen mit dem Orkest Orventus.
DESCRIPTION:Unter der Leitung von Lars Corijn präsentiert die Bläserphilharmonie ihr Programm unter dem Titel „Grenzenlos“. Freuen Sie sich auf das Gemeinschaftskonzert mit dem Orkest Orventus aus Veldhoven (NL) und eine Hommage an den kulturellen Austausch mit unseren niederländischen Nachbarn!\nDie Bläserphilharmonie Aachen wurde 2013 von Studierenden der RWTH Aachen gegründet und kann trotz ihrer noch jungen Orchestergeschichte bereits auf großartige Erfolge blicken\, wie beispielsweise den zweimaligen Gewinn einer Goldmedaille mit Auszeichnung beim WMC in Kerkrade\, den Weltmeisterschaften für Blasmusik\, 2017 und 2022. Das Orchester spielt hauptsächlich Originalmusik aus der sinfonisch-konzertanten Blasmusik. In diesem Semester stehen Werke von Jan Van der Roost\, Sander von Dorst\, Oscar Navarro\, Johan de Meij und Omar Thomas auf dem Programm.
URL:https://aachen-kalender.de/event/grenzenlos-gemeinschaftskonzert-der-blaeserphilharmonie-aachen-mit-dem-orkest-orventus/2025-06-22/
LOCATION:Aula 1\, RWTH-Hauptgebäude\, Templergraben 55\, Aachen\, 52062
CATEGORIES:Musik
ATTACH;FMTTYPE=image/jpeg:https://aachen-kalender.de/wp-content/uploads/2025/05/681630cfbc65b-scaled-e1746433774442.jpg
END:VEVENT
END:VCALENDAR