BEGIN:VCALENDAR
VERSION:2.0
PRODID:-//Aachen-Termine - ECPv6.15.18//NONSGML v1.0//EN
CALSCALE:GREGORIAN
METHOD:PUBLISH
X-WR-CALNAME:Aachen-Termine
X-ORIGINAL-URL:https://aachen-kalender.de
X-WR-CALDESC:Veranstaltungen für Aachen-Termine
REFRESH-INTERVAL;VALUE=DURATION:PT1H
X-Robots-Tag:noindex
X-PUBLISHED-TTL:PT1H
BEGIN:VTIMEZONE
TZID:Europe/Berlin
BEGIN:DAYLIGHT
TZOFFSETFROM:+0100
TZOFFSETTO:+0200
TZNAME:CEST
DTSTART:20250330T010000
END:DAYLIGHT
BEGIN:STANDARD
TZOFFSETFROM:+0200
TZOFFSETTO:+0100
TZNAME:CET
DTSTART:20251026T010000
END:STANDARD
BEGIN:DAYLIGHT
TZOFFSETFROM:+0100
TZOFFSETTO:+0200
TZNAME:CEST
DTSTART:20260329T010000
END:DAYLIGHT
BEGIN:STANDARD
TZOFFSETFROM:+0200
TZOFFSETTO:+0100
TZNAME:CET
DTSTART:20261025T010000
END:STANDARD
BEGIN:DAYLIGHT
TZOFFSETFROM:+0100
TZOFFSETTO:+0200
TZNAME:CEST
DTSTART:20270328T010000
END:DAYLIGHT
BEGIN:STANDARD
TZOFFSETFROM:+0200
TZOFFSETTO:+0100
TZNAME:CET
DTSTART:20271031T010000
END:STANDARD
END:VTIMEZONE
BEGIN:VEVENT
DTSTART;TZID=Europe/Berlin:20260509T200000
DTEND;TZID=Europe/Berlin:20260509T200000
DTSTAMP:20260423T155406
CREATED:20260309T131428Z
LAST-MODIFIED:20260421T104616Z
UID:53262-1778356800-1778356800@aachen-kalender.de
SUMMARY:Fonte Vivace – Festival für Alte Musik. Les Musiciens de Saint-Julien (F). "The Queen’s Delight".
DESCRIPTION:Les Musiciens de Saint-Julien widmen sich seit 2005 unter der Leitung ihres Gründers\, des Flötisten und Musikforschers François Lazarevitch\, der spannenden Verbindung von Barockmusik und traditioneller Musik. Ihre Interpretationen vereinen den historisch informierten Ansatz mit der Erfahrung traditioneller Volksmusiken. Das Ergebnis ist von mitreißender Lebendigkeit\, dabei musikalisch feinfühlig und ungemein virtuos. \nIm Jahr 1651 veröffentlichte John Playford „The English Dancing Master“\, eine Sammlung von Tänzen\, die von den Pubs bis zum Hofe populär waren und über Englands Grenzen hinaus ganz Europa begeisterten. Das Programm The Queen’s Delight ist von dieser Sammlung inspiriert. Da diese „Hits“ zum Teil auch gesungen wurden\, werden die Instrumentalisten durch eine Sopranistin und einen Bariton ergänzt. \nDas Ludwig Forum ist barrierefrei zugänglich. \n\n\n\n\n\nTicket: https://www.eventim-light.com/de/a/6596d0545786b61dced22fc5/e/69764d7210c87e2a2fc8ef2f\n\n\n 
URL:https://aachen-kalender.de/event/fonte-vivace-festival-fuer-alte-musik-les-musiciens-de-saint-julien-f-the-queens-delight/
LOCATION:Ludwig Forum\, Jülicher Straße 97-109\, Aachen\, 52070\, Deutschland
CATEGORIES:Musik
END:VEVENT
END:VCALENDAR