BEGIN:VCALENDAR
VERSION:2.0
PRODID:-//Aachen-Termine - ECPv6.15.18//NONSGML v1.0//EN
CALSCALE:GREGORIAN
METHOD:PUBLISH
X-WR-CALNAME:Aachen-Termine
X-ORIGINAL-URL:https://aachen-kalender.de
X-WR-CALDESC:Veranstaltungen für Aachen-Termine
REFRESH-INTERVAL;VALUE=DURATION:PT1H
X-Robots-Tag:noindex
X-PUBLISHED-TTL:PT1H
BEGIN:VTIMEZONE
TZID:Europe/Berlin
BEGIN:DAYLIGHT
TZOFFSETFROM:+0100
TZOFFSETTO:+0200
TZNAME:CEST
DTSTART:20250330T010000
END:DAYLIGHT
BEGIN:STANDARD
TZOFFSETFROM:+0200
TZOFFSETTO:+0100
TZNAME:CET
DTSTART:20251026T010000
END:STANDARD
BEGIN:DAYLIGHT
TZOFFSETFROM:+0100
TZOFFSETTO:+0200
TZNAME:CEST
DTSTART:20260329T010000
END:DAYLIGHT
BEGIN:STANDARD
TZOFFSETFROM:+0200
TZOFFSETTO:+0100
TZNAME:CET
DTSTART:20261025T010000
END:STANDARD
BEGIN:DAYLIGHT
TZOFFSETFROM:+0100
TZOFFSETTO:+0200
TZNAME:CEST
DTSTART:20270328T010000
END:DAYLIGHT
BEGIN:STANDARD
TZOFFSETFROM:+0200
TZOFFSETTO:+0100
TZNAME:CET
DTSTART:20271031T010000
END:STANDARD
END:VTIMEZONE
BEGIN:VEVENT
DTSTART;TZID=Europe/Berlin:20260516T170000
DTEND;TZID=Europe/Berlin:20260516T170000
DTSTAMP:20260423T170544
CREATED:20260414T083352Z
LAST-MODIFIED:20260421T141810Z
UID:57438-1778950800-1778950800@aachen-kalender.de
SUMMARY:Förderverein für das Hospiz im Haus Hörn e.V. "Triskel Ivesthga". Benefizkonzert.
DESCRIPTION:Der Förderverein für das Hospiz im Haus Hörn e.V. lädt zum Benefizkonzert ein:  Triskel Ivesthga. Drei Harfen\, drei Frauen\, ein Klangzauber. Esther Ringel\, Gaby Sous und Ivonne Schmidt laden mit keltischen Harfen in eine besondere Klangwelt ein. Zwischen zauberhaften Melodien\, traditionellen Klängen\, keltisch inspirierten Weisen und eigenen Arrangements entfaltet sich ein facettenreiches Harfenrepertoire voller Wärme und feiner musikalischer Bilder. Ein vielschichtiges Klangbild eröffnet Raum zum Innehalten\, Lauschen und Verbinden. Musik\, die trägt – Klänge\, die berühren. \n( Triskel Ivesthga – Bedeutung: „Triskel“ bezieht sich auf das uralte keltische Symbol des Lebenskreislaufs – Geburt\, Leben und Tod. „Ivesthga“ setzt sich aus den Namen Ivonne\, Esther und Gaby zusammen\, dem Trio hinter dem Projekt.) \n\nDer Eintritt ist frei. Um eine Spende für die Finanzierung des therapeutischen Harfenspiels im Hospiz wird gebeten.
URL:https://aachen-kalender.de/event/foerderverein-fuer-das-hospiz-im-haus-hoern-e-v-triskel-ivesthga-benefizkonzert/
LOCATION:St. Sebastian\, Ahornstraße 51\, Aachen\, 52074\, Deutschland
CATEGORIES:Musik
END:VEVENT
END:VCALENDAR