BEGIN:VCALENDAR
VERSION:2.0
PRODID:-//Aachen-Termine - ECPv6.15.18//NONSGML v1.0//EN
CALSCALE:GREGORIAN
METHOD:PUBLISH
X-WR-CALNAME:Aachen-Termine
X-ORIGINAL-URL:https://aachen-kalender.de
X-WR-CALDESC:Veranstaltungen für Aachen-Termine
REFRESH-INTERVAL;VALUE=DURATION:PT1H
X-Robots-Tag:noindex
X-PUBLISHED-TTL:PT1H
BEGIN:VTIMEZONE
TZID:Europe/Berlin
BEGIN:DAYLIGHT
TZOFFSETFROM:+0100
TZOFFSETTO:+0200
TZNAME:CEST
DTSTART:20240331T010000
END:DAYLIGHT
BEGIN:STANDARD
TZOFFSETFROM:+0200
TZOFFSETTO:+0100
TZNAME:CET
DTSTART:20241027T010000
END:STANDARD
BEGIN:DAYLIGHT
TZOFFSETFROM:+0100
TZOFFSETTO:+0200
TZNAME:CEST
DTSTART:20250330T010000
END:DAYLIGHT
BEGIN:STANDARD
TZOFFSETFROM:+0200
TZOFFSETTO:+0100
TZNAME:CET
DTSTART:20251026T010000
END:STANDARD
BEGIN:DAYLIGHT
TZOFFSETFROM:+0100
TZOFFSETTO:+0200
TZNAME:CEST
DTSTART:20260329T010000
END:DAYLIGHT
BEGIN:STANDARD
TZOFFSETFROM:+0200
TZOFFSETTO:+0100
TZNAME:CET
DTSTART:20261025T010000
END:STANDARD
END:VTIMEZONE
BEGIN:VEVENT
DTSTART;TZID=Europe/Berlin:20250906T200000
DTEND;TZID=Europe/Berlin:20250906T200000
DTSTAMP:20260419T204808
CREATED:20250807T135843Z
LAST-MODIFIED:20250807T135903Z
UID:28697-1757188800-1757188800@aachen-kalender.de
SUMMARY:"Fliegender Wechsel". Impro-Show.
DESCRIPTION:Fasziniert vom Zauber des Augenblicks\, steckt das Ensemble von „Fliegender Wechsel“ das Publikum immer wieder mit der Begeisterung für das Unvorhersehbare an. Live könnt ihr an diesem Abend mitbestimmen welche Geschichten unbedingt eine Bühne brauchen.
URL:https://aachen-kalender.de/event/fliegender-wechsel-impro-show/
LOCATION:Raststätte\, Lothringerstraße 23\, Aachen\, 52062\, Deutschland
CATEGORIES:Theater
END:VEVENT
END:VCALENDAR