BEGIN:VCALENDAR
VERSION:2.0
PRODID:-//Aachen-Termine - ECPv6.15.18//NONSGML v1.0//EN
CALSCALE:GREGORIAN
METHOD:PUBLISH
X-WR-CALNAME:Aachen-Termine
X-ORIGINAL-URL:https://aachen-kalender.de
X-WR-CALDESC:Veranstaltungen für Aachen-Termine
REFRESH-INTERVAL;VALUE=DURATION:PT1H
X-Robots-Tag:noindex
X-PUBLISHED-TTL:PT1H
BEGIN:VTIMEZONE
TZID:Europe/Berlin
BEGIN:DAYLIGHT
TZOFFSETFROM:+0100
TZOFFSETTO:+0200
TZNAME:CEST
DTSTART:20250330T010000
END:DAYLIGHT
BEGIN:STANDARD
TZOFFSETFROM:+0200
TZOFFSETTO:+0100
TZNAME:CET
DTSTART:20251026T010000
END:STANDARD
BEGIN:DAYLIGHT
TZOFFSETFROM:+0100
TZOFFSETTO:+0200
TZNAME:CEST
DTSTART:20260329T010000
END:DAYLIGHT
BEGIN:STANDARD
TZOFFSETFROM:+0200
TZOFFSETTO:+0100
TZNAME:CET
DTSTART:20261025T010000
END:STANDARD
BEGIN:DAYLIGHT
TZOFFSETFROM:+0100
TZOFFSETTO:+0200
TZNAME:CEST
DTSTART:20270328T010000
END:DAYLIGHT
BEGIN:STANDARD
TZOFFSETFROM:+0200
TZOFFSETTO:+0100
TZNAME:CET
DTSTART:20271031T010000
END:STANDARD
END:VTIMEZONE
BEGIN:VEVENT
DTSTART;TZID=Europe/Berlin:20260529T193000
DTEND;TZID=Europe/Berlin:20260529T193000
DTSTAMP:20260424T101834
CREATED:20260218T092049Z
LAST-MODIFIED:20260422T081627Z
UID:50875-1780083000-1780083000@aachen-kalender.de
SUMMARY:"Figurentheater der Gegenwart im Space". Kobalt Figurentheater Lübeck. "Der Schimmelreiter". Nach Theodor Storm.
DESCRIPTION:In karger nordfriesischer Landschaft wächst ein Genie heran: Hauke Haien will seine Vision eines neuen Deiches in einer ängstlichen\, abergläubischen Umgebung verwirklichen. Doch er unterschätzt die Macht des Irrationalen. Der Deichbau verzögert sich katastrophal. \nDie Reihe „Animationen“ mit dem Figurentheater der Gegenwart im Space des Ludwig Forum an der Jülicher Straße geht weiter. Figurentheater der Gegenwart umfasst eine weite Spanne ästhetischer Mittel und szenischer Möglichkeiten. Es verbindet Impulse und Inspirationen aller Künste. Die Reihe „Animationen“ des Kulturbetriebs der Stadt Aachen in Kooperation mit dem künstlerischen Leiter Stephan Wunsch gibt Einblicke in diese Bandbreite. Im Zentrum der gezeigten Inszenierungen steht die animierte Figur. Doch Animationen der ungewöhnlichen Art versprechen wir auch dem Publikum. Modernes Figurentheater ist das Theater der Überraschungen! \n\nWeitere Infos unter www.kobalt-luebeck.de\nTickets unter www.reservix.de
URL:https://aachen-kalender.de/event/figurentheater-der-gegenwart-im-space-kobalt-figurentheater-luebeck-der-schimmelreiter-nach-theodor-storm/
LOCATION:Space\, Ludwig Forum\, Jülicher Straße 97-109\, Aachen\, 52070\, Germany
CATEGORIES:Theater
ATTACH;FMTTYPE=image/jpeg:https://aachen-kalender.de/wp-content/uploads/2026/02/29Mai_Schimmelreiter_Lufo.jpg
END:VEVENT
END:VCALENDAR