BEGIN:VCALENDAR
VERSION:2.0
PRODID:-//Aachen-Termine - ECPv6.15.18//NONSGML v1.0//EN
CALSCALE:GREGORIAN
METHOD:PUBLISH
X-WR-CALNAME:Aachen-Termine
X-ORIGINAL-URL:https://aachen-kalender.de
X-WR-CALDESC:Veranstaltungen für Aachen-Termine
REFRESH-INTERVAL;VALUE=DURATION:PT1H
X-Robots-Tag:noindex
X-PUBLISHED-TTL:PT1H
BEGIN:VTIMEZONE
TZID:Europe/Berlin
BEGIN:DAYLIGHT
TZOFFSETFROM:+0100
TZOFFSETTO:+0200
TZNAME:CEST
DTSTART:20250330T010000
END:DAYLIGHT
BEGIN:STANDARD
TZOFFSETFROM:+0200
TZOFFSETTO:+0100
TZNAME:CET
DTSTART:20251026T010000
END:STANDARD
BEGIN:DAYLIGHT
TZOFFSETFROM:+0100
TZOFFSETTO:+0200
TZNAME:CEST
DTSTART:20260329T010000
END:DAYLIGHT
BEGIN:STANDARD
TZOFFSETFROM:+0200
TZOFFSETTO:+0100
TZNAME:CET
DTSTART:20261025T010000
END:STANDARD
BEGIN:DAYLIGHT
TZOFFSETFROM:+0100
TZOFFSETTO:+0200
TZNAME:CEST
DTSTART:20270328T010000
END:DAYLIGHT
BEGIN:STANDARD
TZOFFSETFROM:+0200
TZOFFSETTO:+0100
TZNAME:CET
DTSTART:20271031T010000
END:STANDARD
END:VTIMEZONE
BEGIN:VEVENT
DTSTART;TZID=Europe/Berlin:20260412T130000
DTEND;TZID=Europe/Berlin:20260412T130000
DTSTAMP:20260421T154435
CREATED:20260303T090945Z
LAST-MODIFIED:20260303T090945Z
UID:10020962-1775998800-1775998800@aachen-kalender.de
SUMMARY:"Familien-Zauber-Show für Kinder und Erwachsene".
DESCRIPTION:Erleben Sie ein ganz besonderes Event für die ganze Familie! Black Table präsentiert Tim Jantzen\, einen der besten Kinderzauberer\, der mit seinem einzigartigen Können Kinder und Erwachsene gleichermaßen begeistert. \nUnsere Familien-Zauber-Show ist speziell für Kinder im Alter von 6 bis 12 Jahren konzipiert – und garantiert auch ein großer Spaß für die Erwachsenen. Egal\, ob Eltern mit ihren Kindern oder Großeltern mit ihren Enkelkindern – hier kommt jeder auf seine Kosten. \nLassen Sie sich von magischen Momenten\, verblüffenden Tricks und einer mitreißenden Atmosphäre verzaubern! \n\nAltersempfehlung:\nDer Einlass für die Zaubershows ist ab mindestens 6-12 Jahren. Bitte die Mindestalter Angabe respektieren.
URL:https://aachen-kalender.de/event/familien-zauber-show-fuer-kinder-und-erwachsene-2/2026-04-12/1/
LOCATION:Black Table Magic Theater\, Borngasse 30\, Aachen\, 52064\, Deutschland
CATEGORIES:Familie
ATTACH;FMTTYPE=image/jpeg:https://aachen-kalender.de/wp-content/uploads/2024/11/nichtblinzeln_solo-e1732195746166.jpg
END:VEVENT
END:VCALENDAR