BEGIN:VCALENDAR
VERSION:2.0
PRODID:-//Aachen-Termine - ECPv6.15.18//NONSGML v1.0//EN
CALSCALE:GREGORIAN
METHOD:PUBLISH
X-WR-CALNAME:Aachen-Termine
X-ORIGINAL-URL:https://aachen-kalender.de
X-WR-CALDESC:Veranstaltungen für Aachen-Termine
REFRESH-INTERVAL;VALUE=DURATION:PT1H
X-Robots-Tag:noindex
X-PUBLISHED-TTL:PT1H
BEGIN:VTIMEZONE
TZID:Europe/Berlin
BEGIN:DAYLIGHT
TZOFFSETFROM:+0100
TZOFFSETTO:+0200
TZNAME:CEST
DTSTART:20250330T010000
END:DAYLIGHT
BEGIN:STANDARD
TZOFFSETFROM:+0200
TZOFFSETTO:+0100
TZNAME:CET
DTSTART:20251026T010000
END:STANDARD
BEGIN:DAYLIGHT
TZOFFSETFROM:+0100
TZOFFSETTO:+0200
TZNAME:CEST
DTSTART:20260329T010000
END:DAYLIGHT
BEGIN:STANDARD
TZOFFSETFROM:+0200
TZOFFSETTO:+0100
TZNAME:CET
DTSTART:20261025T010000
END:STANDARD
BEGIN:DAYLIGHT
TZOFFSETFROM:+0100
TZOFFSETTO:+0200
TZNAME:CEST
DTSTART:20270328T010000
END:DAYLIGHT
BEGIN:STANDARD
TZOFFSETFROM:+0200
TZOFFSETTO:+0100
TZNAME:CET
DTSTART:20271031T010000
END:STANDARD
END:VTIMEZONE
BEGIN:VEVENT
DTSTART;TZID=Europe/Berlin:20260108T180000
DTEND;TZID=Europe/Berlin:20260108T180000
DTSTAMP:20260419T173636
CREATED:20251202T082817Z
LAST-MODIFIED:20251202T082853Z
UID:42346-1767895200-1767895200@aachen-kalender.de
SUMMARY:"Faktensicher"-Online-Vortragsreihe. Pascal Siggelkow. "Desinformation entlarven".
DESCRIPTION:Mit journalistischem Handwerk gegen Fake News – das ist die tägliche Herausforderung für die Faktenfinder bei der Tagesschau. Der Redakteur Pascal Siggelkow gibt in diesem Seminar fallbezogen Einblick in die sensible Arbeit seines Teams\, die u.a. direkt auf tagesschau.de/faktenfinder ausgespielt wird und stellt hilfreiche Profi-Tools und deren Anwendung vor mit denen auch Nicht-Journalist: innen Schritt für Schritt Desinformation entlarven und Fakten überprüfen können.\nPascal Siggelkow\nPascal Siggelkow ist seit Oktober 2022 verantwortlicher Redakteur beim ARD-faktenfinder. \n„Faktensicher“ -Online-Vortragsreihe\nDie ARD bietet dieses Semester in Zusammenarbeit mit den Volkshochschulverbänden Baden-Württemberg\, Bayern\, Nordrhein-Westfalen und Rheinland-Pfalz acht Online-Veranstaltungen an\, um ins Gespräch zu kommen: Warum ist es wichtig\, in einer Demokratie auf verlässliche Informationen zurückgreifen zu können und wie können wir alle dazu beitragen\, dass die medialen Räume weniger durchdrungen werden von Desinformation\, Populismus und Hass?\nImpulsvortrag mit anschließender moderierter Diskussion unter Einbeziehung von Publikumsfragen. Die Veranstaltung wird über Slido gestreamt. Die Teilnehmenden sind in der Veranstaltung nicht sichtbar und hörbar. Sie bleiben zu Hause und sind dennoch beim Lernen und Diskutieren dabei.\nNach der Anmeldung bekommen die Teilnehmenden den Zugangslink zugesendet. Benötigt werden ein internetfähiger PC/Laptop und für einzelne Veranstaltungen möglichst ein zweites internetfähiges Endgerät\, am besten ein Smartphone.
URL:https://aachen-kalender.de/event/faktensicher-online-vortragsreihe-pascal-siggelkow-desinformation-entlarven/
LOCATION:Online
CATEGORIES:Lesung/Vortrag
END:VEVENT
END:VCALENDAR