BEGIN:VCALENDAR
VERSION:2.0
PRODID:-//Aachen-Termine - ECPv6.15.18//NONSGML v1.0//EN
CALSCALE:GREGORIAN
METHOD:PUBLISH
X-WR-CALNAME:Aachen-Termine
X-ORIGINAL-URL:https://aachen-kalender.de
X-WR-CALDESC:Veranstaltungen für Aachen-Termine
REFRESH-INTERVAL;VALUE=DURATION:PT1H
X-Robots-Tag:noindex
X-PUBLISHED-TTL:PT1H
BEGIN:VTIMEZONE
TZID:Europe/Berlin
BEGIN:DAYLIGHT
TZOFFSETFROM:+0100
TZOFFSETTO:+0200
TZNAME:CEST
DTSTART:20250330T010000
END:DAYLIGHT
BEGIN:STANDARD
TZOFFSETFROM:+0200
TZOFFSETTO:+0100
TZNAME:CET
DTSTART:20251026T010000
END:STANDARD
BEGIN:DAYLIGHT
TZOFFSETFROM:+0100
TZOFFSETTO:+0200
TZNAME:CEST
DTSTART:20260329T010000
END:DAYLIGHT
BEGIN:STANDARD
TZOFFSETFROM:+0200
TZOFFSETTO:+0100
TZNAME:CET
DTSTART:20261025T010000
END:STANDARD
BEGIN:DAYLIGHT
TZOFFSETFROM:+0100
TZOFFSETTO:+0200
TZNAME:CEST
DTSTART:20270328T010000
END:DAYLIGHT
BEGIN:STANDARD
TZOFFSETFROM:+0200
TZOFFSETTO:+0100
TZNAME:CET
DTSTART:20271031T010000
END:STANDARD
END:VTIMEZONE
BEGIN:VEVENT
DTSTART;TZID=Europe/Berlin:20260507T140000
DTEND;TZID=Europe/Berlin:20260507T160000
DTSTAMP:20260423T135048
CREATED:20260413T091321Z
LAST-MODIFIED:20260413T091806Z
UID:57238-1778162400-1778169600@aachen-kalender.de
SUMMARY:Fairtrade-Aktionstage. "Globales Aachen – die Arbeit kleiner Hände".
DESCRIPTION:Auch in diesem Jahr finden wieder die Fairtrade-Aktionstage in der Städteregion Aachen statt. Das Motto lautet „Eine Welt – unsere Welt“. Vom 06. bis zum 09. Mai erwartet interessierte Bürger_innen ein buntes Programm in der Städteregion Aachen\, das die Produktionsbedingungen und die Bedeutung von Fairtrade bekannter machen soll. \n\nStadtrundgang “Globales Aachen – die Arbeit kleiner Hände” – Kinderarbeit\, soziale Ungerechtigkeit\, gesellschaftliche Umbrüche – wie hat sich die Industrialisierung in der ehemaligen Tuchstadt Aachen ausgewirkt? Gehen Sie mit uns auf Spurensuche.\n\nAnmeldung: bis 06. Mai an bne@mail.aachen.de (Weltweit am Dom\, kleiner Münsterplatz\, Aachen)
URL:https://aachen-kalender.de/event/fairtrade-aktionstage-globales-aachen-die-arbeit-kleiner-haende/
LOCATION:Weltladen Aachen\, Hof 15-17\, Aachen\, 52062
CATEGORIES:Führungen
END:VEVENT
END:VCALENDAR