BEGIN:VCALENDAR
VERSION:2.0
PRODID:-//Aachen-Termine - ECPv6.15.18//NONSGML v1.0//EN
CALSCALE:GREGORIAN
METHOD:PUBLISH
X-WR-CALNAME:Aachen-Termine
X-ORIGINAL-URL:https://aachen-kalender.de
X-WR-CALDESC:Veranstaltungen für Aachen-Termine
REFRESH-INTERVAL;VALUE=DURATION:PT1H
X-Robots-Tag:noindex
X-PUBLISHED-TTL:PT1H
BEGIN:VTIMEZONE
TZID:Europe/Berlin
BEGIN:DAYLIGHT
TZOFFSETFROM:+0100
TZOFFSETTO:+0200
TZNAME:CEST
DTSTART:20240331T010000
END:DAYLIGHT
BEGIN:STANDARD
TZOFFSETFROM:+0200
TZOFFSETTO:+0100
TZNAME:CET
DTSTART:20241027T010000
END:STANDARD
BEGIN:DAYLIGHT
TZOFFSETFROM:+0100
TZOFFSETTO:+0200
TZNAME:CEST
DTSTART:20250330T010000
END:DAYLIGHT
BEGIN:STANDARD
TZOFFSETFROM:+0200
TZOFFSETTO:+0100
TZNAME:CET
DTSTART:20251026T010000
END:STANDARD
BEGIN:DAYLIGHT
TZOFFSETFROM:+0100
TZOFFSETTO:+0200
TZNAME:CEST
DTSTART:20260329T010000
END:DAYLIGHT
BEGIN:STANDARD
TZOFFSETFROM:+0200
TZOFFSETTO:+0100
TZNAME:CET
DTSTART:20261025T010000
END:STANDARD
END:VTIMEZONE
BEGIN:VEVENT
DTSTART;TZID=Europe/Berlin:20251208T193000
DTEND;TZID=Europe/Berlin:20251208T221500
DTSTAMP:20260419T221656
CREATED:20251202T134533Z
LAST-MODIFIED:20251202T134604Z
UID:42404-1765222200-1765232100@aachen-kalender.de
SUMMARY:"FABULA". NRW-Kinopremiere Komödie mit Gästen.
DESCRIPTION:NRW-Kinopremiere der niederländisch-deutschen Gangsterkomödie FABULA u.a. mit David Kross und Georg Friedrich in den Hauptrollen. Der Spielfilm vom angesagten Regisseur Michiel ten Horn hat das diesjährige Festival von Rotterdam eröffnet. Der Haupdarsteller Fedja van Huet wird im Apollo Kino zu Gast sein. Anschließendes Filmgespräch. \nDetails zum Kartenverkauf: 9 Euro/ 7 Euro Tickets unter: https://apollo-aachen.de/programmuebersicht/?search=Fabula&searchopen=1
URL:https://aachen-kalender.de/event/fabula-nrw-kinopremiere-komoedie-mit-gaesten/
LOCATION:Apollo\, Pontstraße 141\, Aachen\, 52062\, Deutschland
CATEGORIES:Sonstiges
ATTACH;FMTTYPE=image/jpeg:https://aachen-kalender.de/wp-content/uploads/2025/12/692ecf7b8e0d0-9UFu6m-scaled-e1764683114204.jpg
END:VEVENT
END:VCALENDAR