BEGIN:VCALENDAR
VERSION:2.0
PRODID:-//Aachen-Termine - ECPv6.15.18//NONSGML v1.0//EN
CALSCALE:GREGORIAN
METHOD:PUBLISH
X-WR-CALNAME:Aachen-Termine
X-ORIGINAL-URL:https://aachen-kalender.de
X-WR-CALDESC:Veranstaltungen für Aachen-Termine
REFRESH-INTERVAL;VALUE=DURATION:PT1H
X-Robots-Tag:noindex
X-PUBLISHED-TTL:PT1H
BEGIN:VTIMEZONE
TZID:Europe/Berlin
BEGIN:DAYLIGHT
TZOFFSETFROM:+0100
TZOFFSETTO:+0200
TZNAME:CEST
DTSTART:20250330T010000
END:DAYLIGHT
BEGIN:STANDARD
TZOFFSETFROM:+0200
TZOFFSETTO:+0100
TZNAME:CET
DTSTART:20251026T010000
END:STANDARD
BEGIN:DAYLIGHT
TZOFFSETFROM:+0100
TZOFFSETTO:+0200
TZNAME:CEST
DTSTART:20260329T010000
END:DAYLIGHT
BEGIN:STANDARD
TZOFFSETFROM:+0200
TZOFFSETTO:+0100
TZNAME:CET
DTSTART:20261025T010000
END:STANDARD
BEGIN:DAYLIGHT
TZOFFSETFROM:+0100
TZOFFSETTO:+0200
TZNAME:CEST
DTSTART:20270328T010000
END:DAYLIGHT
BEGIN:STANDARD
TZOFFSETFROM:+0200
TZOFFSETTO:+0100
TZNAME:CET
DTSTART:20271031T010000
END:STANDARD
END:VTIMEZONE
BEGIN:VEVENT
DTSTART;TZID=Europe/Berlin:20260528T100000
DTEND;TZID=Europe/Berlin:20260528T113000
DTSTAMP:20260424T113740
CREATED:20260408T100850Z
LAST-MODIFIED:20260408T104653Z
UID:56622-1779962400-1779967800@aachen-kalender.de
SUMMARY:"Erste Möglichkeiten zur Projektfinanzierung".
DESCRIPTION:In diesem Workshop erlernen Sie den Aufbau eines vielseitigen Projektantrages und in welcher Reihenfolge Sie die Fördermöglichkeiten angehen. Das Team Fundraising arbeitet gemeinsam mit Sabine Immken von der FUNDIERT AGENTUR. Frau Immkens Schwerpunkte sind die Fundraisingstrategie sowie das Corporate Giving. Sie unterstützt sowohl Unternehmen als auch Organisationen dabei\, eine nachhaltige Spendenstrategie zu entwickeln und umzusetzen. In den Workshops erhalten Interessierte praktische Tipps\, neue Denkweisen und viele Aha-Momente und treffen auf Menschen\, die genauso viel bewegen wollen wie Sie. Für wen sind die Workshops? Für alle\, die mit Herz und Engagement in sozialen Organisationen arbeiten. Vorkenntnisse? Nicht nötig. Neugier? Unbedingt. \nOnline – via Zoom
URL:https://aachen-kalender.de/event/erste-moeglichkeiten-zur-projektfinanzierung/
LOCATION:Online
CATEGORIES:Sonstiges
END:VEVENT
END:VCALENDAR