BEGIN:VCALENDAR
VERSION:2.0
PRODID:-//Aachen-Termine - ECPv6.15.18//NONSGML v1.0//EN
CALSCALE:GREGORIAN
METHOD:PUBLISH
X-WR-CALNAME:Aachen-Termine
X-ORIGINAL-URL:https://aachen-kalender.de
X-WR-CALDESC:Veranstaltungen für Aachen-Termine
REFRESH-INTERVAL;VALUE=DURATION:PT1H
X-Robots-Tag:noindex
X-PUBLISHED-TTL:PT1H
BEGIN:VTIMEZONE
TZID:Europe/Berlin
BEGIN:DAYLIGHT
TZOFFSETFROM:+0100
TZOFFSETTO:+0200
TZNAME:CEST
DTSTART:20250330T010000
END:DAYLIGHT
BEGIN:STANDARD
TZOFFSETFROM:+0200
TZOFFSETTO:+0100
TZNAME:CET
DTSTART:20251026T010000
END:STANDARD
BEGIN:DAYLIGHT
TZOFFSETFROM:+0100
TZOFFSETTO:+0200
TZNAME:CEST
DTSTART:20260329T010000
END:DAYLIGHT
BEGIN:STANDARD
TZOFFSETFROM:+0200
TZOFFSETTO:+0100
TZNAME:CET
DTSTART:20261025T010000
END:STANDARD
BEGIN:DAYLIGHT
TZOFFSETFROM:+0100
TZOFFSETTO:+0200
TZNAME:CEST
DTSTART:20270328T010000
END:DAYLIGHT
BEGIN:STANDARD
TZOFFSETFROM:+0200
TZOFFSETTO:+0100
TZNAME:CET
DTSTART:20271031T010000
END:STANDARD
END:VTIMEZONE
BEGIN:VEVENT
DTSTART;TZID=Europe/Berlin:20260222T170000
DTEND;TZID=Europe/Berlin:20260222T170000
DTSTAMP:20260425T123036
CREATED:20260113T134945Z
LAST-MODIFIED:20260113T135122Z
UID:46653-1771779600-1771779600@aachen-kalender.de
SUMMARY:Ensemble Ordo Virtutum. "Praymobil Live: Musikalisch-Szenische Aufführung der 'Wolfenbüttler Marienklage' (um 1420)".
DESCRIPTION:Ordo Virtutum unter der Leitung von Prof. Dr. Stefan Johannes Morent. \nDas Ensemble Ordo Virtutum wurde vom Musikwissenschaftler Prof. Dr. Stefan Johannes Morent\, Lehrstuhl für Digitale Musikwissenschaft und Musik vor 1600 in Tübingen\, gegründet. Es versteht sich als Spezialensemble für Musik des Mittelalters. Ziel ist die Verbindung von Interpretation und musikwissenschaftlicher Forschung\, um einen Zugang zur musikalischen Welt des mittelalterlichen Europa zu eröffnen. Das Ensemble betreibt für jedes Projekt umfangreiche eigene Forschungsarbeit und erhielt inzwischen Einladungen zu zahlreichen Festivals in Europa\, den USA und Australien\, bei denen von der Presse „die artistische Meisterschaft in Gesang und Instrumentalspiel“ besonders hervorgehoben wurde. Zusammen mit dem SWR entstanden zahlreiche CD-Einspielungen\, zuletzt in den virtuell rekonstruierten Kirchenräumen von Cluny und der Reichenau. \nUnter den Marienklagen\, jenen deutschsprachigen Geistlichen Spielen des Spätmittelalters (14./15. Jahrhundert)\, die die Klage Mariens beim Kreuzestod Jesu ausgestalten\, nimmt die „Wolfenbütteler Marienklage“ (um 1420) in verschiedener Hinsicht eine besondere Stellung ein: In ihr wird vor allem die Stellung Mariens als „Mutter der Barmherzigkeit“ sowie die Rolle des Johannes (Johannesminne) ausgestaltet. Außerdem treten als Besonderheit die Figuren Petrus\, Nikodemus und Joseph auf. Für die Aufführung wurde die Handschrift dieses Spiels\, die heute in Wolfenbüttel liegt\, neu transkribiert. Ursprünglicher Aufführungsort war vermutlich Braunschweig. \nDie szenische Wiederaufführung der Klage ist das Ergebnis einer intensiven Beschäftigung des Ensembles Ordo Virtutum mit den mittelalterlichen Spieltraditionen Europas. Hierbei stehen besonders szenische Realisierungsmodelle\, die Entwicklung einer Gestensprache sowie von Sing- und Instrumentalstilen im Mittelpunkt. \n\nKarten ausschließlich online: https://22196.reservix.de/p/reservix/event/2492205
URL:https://aachen-kalender.de/event/ensemble-ordo-virtutum-praymobil-live-musikalisch-szenische-auffuehrung-der-wolfenbuettler-marienklage-um-1420/
LOCATION:St. Adalbert\, Kaiserplatz\, Aachen\, 52066
CATEGORIES:Musik
END:VEVENT
END:VCALENDAR