BEGIN:VCALENDAR
VERSION:2.0
PRODID:-//Aachen-Termine - ECPv6.15.18//NONSGML v1.0//EN
CALSCALE:GREGORIAN
METHOD:PUBLISH
X-WR-CALNAME:Aachen-Termine
X-ORIGINAL-URL:https://aachen-kalender.de
X-WR-CALDESC:Veranstaltungen für Aachen-Termine
REFRESH-INTERVAL;VALUE=DURATION:PT1H
X-Robots-Tag:noindex
X-PUBLISHED-TTL:PT1H
BEGIN:VTIMEZONE
TZID:Europe/Berlin
BEGIN:DAYLIGHT
TZOFFSETFROM:+0100
TZOFFSETTO:+0200
TZNAME:CEST
DTSTART:20250330T010000
END:DAYLIGHT
BEGIN:STANDARD
TZOFFSETFROM:+0200
TZOFFSETTO:+0100
TZNAME:CET
DTSTART:20251026T010000
END:STANDARD
BEGIN:DAYLIGHT
TZOFFSETFROM:+0100
TZOFFSETTO:+0200
TZNAME:CEST
DTSTART:20260329T010000
END:DAYLIGHT
BEGIN:STANDARD
TZOFFSETFROM:+0200
TZOFFSETTO:+0100
TZNAME:CET
DTSTART:20261025T010000
END:STANDARD
BEGIN:DAYLIGHT
TZOFFSETFROM:+0100
TZOFFSETTO:+0200
TZNAME:CEST
DTSTART:20270328T010000
END:DAYLIGHT
BEGIN:STANDARD
TZOFFSETFROM:+0200
TZOFFSETTO:+0100
TZNAME:CET
DTSTART:20271031T010000
END:STANDARD
END:VTIMEZONE
BEGIN:VEVENT
DTSTART;TZID=Europe/Berlin:20260426T180000
DTEND;TZID=Europe/Berlin:20260426T180000
DTSTAMP:20260423T154005
CREATED:20251127T124613Z
LAST-MODIFIED:20260310T144009Z
UID:10018599-1777226400-1777226400@aachen-kalender.de
SUMMARY:"Einszweiundzwanzig vor dem Ende". Komödie von Matthieu Delaporte.
DESCRIPTION:Als Bernhard sich gerade umbringen will\, klopft es an der Tür. Ein Mann mit Schnurrbart\, Rollkragenpullover und Pistole steht und zielt auf den überrumpelten Bernhard. Es ist der Tod in Person\, der in dieser Funktion seinen ersten Arbeitstag hat und Bernhard abholen will. Leider hat sich der Tod im Stockwerk geirrt. Und auch ansonsten ist er alles andere als ein Profi … \nMatthieu Delaportes Stück ist eine originelle und witzige Spekulation über die unmittelbare Zeit vor dem Ende und zeichnet sich dabei durch Situationskomik und Sprachwitz aus.
URL:https://aachen-kalender.de/event/einszweiundzwanzig-vor-dem-ende-komoedie-von-matthieu-delaporte-premiere-2/2026-04-26/
LOCATION:Grenzlandtheater\, ElisenGalerie\, Aachen\, 52062
CATEGORIES:Theater
ATTACH;FMTTYPE=image/jpeg:https://aachen-kalender.de/wp-content/uploads/2025/11/Einszweiundzwanzig.jpg
END:VEVENT
END:VCALENDAR