BEGIN:VCALENDAR
VERSION:2.0
PRODID:-//Aachen-Termine - ECPv6.15.18//NONSGML v1.0//EN
CALSCALE:GREGORIAN
METHOD:PUBLISH
X-WR-CALNAME:Aachen-Termine
X-ORIGINAL-URL:https://aachen-kalender.de
X-WR-CALDESC:Veranstaltungen für Aachen-Termine
REFRESH-INTERVAL;VALUE=DURATION:PT1H
X-Robots-Tag:noindex
X-PUBLISHED-TTL:PT1H
BEGIN:VTIMEZONE
TZID:Europe/Berlin
BEGIN:DAYLIGHT
TZOFFSETFROM:+0100
TZOFFSETTO:+0200
TZNAME:CEST
DTSTART:20250330T010000
END:DAYLIGHT
BEGIN:STANDARD
TZOFFSETFROM:+0200
TZOFFSETTO:+0100
TZNAME:CET
DTSTART:20251026T010000
END:STANDARD
BEGIN:DAYLIGHT
TZOFFSETFROM:+0100
TZOFFSETTO:+0200
TZNAME:CEST
DTSTART:20260329T010000
END:DAYLIGHT
BEGIN:STANDARD
TZOFFSETFROM:+0200
TZOFFSETTO:+0100
TZNAME:CET
DTSTART:20261025T010000
END:STANDARD
BEGIN:DAYLIGHT
TZOFFSETFROM:+0100
TZOFFSETTO:+0200
TZNAME:CEST
DTSTART:20270328T010000
END:DAYLIGHT
BEGIN:STANDARD
TZOFFSETFROM:+0200
TZOFFSETTO:+0100
TZNAME:CET
DTSTART:20271031T010000
END:STANDARD
END:VTIMEZONE
BEGIN:VEVENT
DTSTART;TZID=Europe/Berlin:20260504T160000
DTEND;TZID=Europe/Berlin:20260504T220000
DTSTAMP:20260419T220726
CREATED:20260414T170445Z
LAST-MODIFIED:20260414T170446Z
UID:57532-1777910400-1777932000@aachen-kalender.de
SUMMARY:Düvelmarkt.
DESCRIPTION:Am Montag\, 4. Mai\, lädt die Arbeitsgemeinschaft 1970 Würselen e. V. von 16 bis 22 Uhr zum Düvelmarkt auf dem Würselener Lindenplatz ein. Die Veranstaltung bietet musikalische Unterhaltung\, Speisen und Getränke in geselliger Atmosphäre. Im Mittelpunkt steht das Miteinander nach Feierabend – eine Gelegenheit für Begegnungen und gute Gespräche in entspannter Umgebung.
URL:https://aachen-kalender.de/event/duevelmarkt-3/
LOCATION:Lindenplatz in Würselen\, Würselen\, 52146
CATEGORIES:Markt/Messe
ATTACH;FMTTYPE=image/jpeg:https://aachen-kalender.de/wp-content/uploads/2025/03/5Mai_Duevelmarkt-e1745396330421.jpg
END:VEVENT
END:VCALENDAR