BEGIN:VCALENDAR
VERSION:2.0
PRODID:-//Aachen-Termine - ECPv6.15.18//NONSGML v1.0//EN
CALSCALE:GREGORIAN
METHOD:PUBLISH
X-WR-CALNAME:Aachen-Termine
X-ORIGINAL-URL:https://aachen-kalender.de
X-WR-CALDESC:Veranstaltungen für Aachen-Termine
REFRESH-INTERVAL;VALUE=DURATION:PT1H
X-Robots-Tag:noindex
X-PUBLISHED-TTL:PT1H
BEGIN:VTIMEZONE
TZID:Europe/Berlin
BEGIN:DAYLIGHT
TZOFFSETFROM:+0100
TZOFFSETTO:+0200
TZNAME:CEST
DTSTART:20250330T010000
END:DAYLIGHT
BEGIN:STANDARD
TZOFFSETFROM:+0200
TZOFFSETTO:+0100
TZNAME:CET
DTSTART:20251026T010000
END:STANDARD
BEGIN:DAYLIGHT
TZOFFSETFROM:+0100
TZOFFSETTO:+0200
TZNAME:CEST
DTSTART:20260329T010000
END:DAYLIGHT
BEGIN:STANDARD
TZOFFSETFROM:+0200
TZOFFSETTO:+0100
TZNAME:CET
DTSTART:20261025T010000
END:STANDARD
BEGIN:DAYLIGHT
TZOFFSETFROM:+0100
TZOFFSETTO:+0200
TZNAME:CEST
DTSTART:20270328T010000
END:DAYLIGHT
BEGIN:STANDARD
TZOFFSETFROM:+0200
TZOFFSETTO:+0100
TZNAME:CET
DTSTART:20271031T010000
END:STANDARD
END:VTIMEZONE
BEGIN:VEVENT
DTSTART;TZID=Europe/Berlin:20260223T193000
DTEND;TZID=Europe/Berlin:20260223T193000
DTSTAMP:20260423T135950
CREATED:20260108T094533Z
LAST-MODIFIED:20260108T094542Z
UID:46085-1771875000-1771875000@aachen-kalender.de
SUMMARY:Dr. Patrick Peters. "Zum 250. Geburtstag von Joseph Görres - mit spitzer Feder für die Freiheit". Lesung und Autorengespräch.
DESCRIPTION:Patrick Peters zeichnet das lebendige Porträt eines Denkers\, der sich der Willkür widersetzte\, für seine Überzeugungen einstand und die intellektuellen Strömungen seiner Epoche maßgeblich prägte. \nJoseph Görres: ein Leben zwischen Revolution und Religion. Das Buch von Patrick Peters erschien im Herbst 2025. Er zeichnet darin den Weg eines der prägendsten Intellektuellen des 19. Jahrhunderts nach\, vom frühen Republikaner zum engagierten Katholiken. \nIn der Lesung gibt der Autor Einblicke in Görres’ bewegtes Leben\, seine Schriften und seine Wirkung auf Politik und Öffentlichkeit. Ein Abend\, der einen fundierten Einblick in eine prägende Gestalt der deutschen Geistesgeschichte bietet und aktuelle Fragen nach Haltung und Engagement provoziert. \nBegleitend zur Lesung stellt Martin Barth die Görres-Gesellschaft als deren Generalsekretär vor. Er zieht Verbindungslinien zum Erbe und heutigen Auftrag dieser historischen Figur\, die Patrick Peters in seinem Buch portraitiert. \nMit Büchertisch von Jacobi’s Nachfolger\, Aachen. \n  \n\nAnmeldung:\nhttps://www.akademie-bistum-aachen.de/bilden-begegnen/veranstaltungen/veranstaltung/Zum-250.-Geburtstag-von-Joseph-Goerres-mit-spitzer-Feder-fuer-die-Freiheit-2026.02.23/?instancedate=1771871400000
URL:https://aachen-kalender.de/event/dr-patrick-peters-zum-250-geburtstag-von-joseph-goerres-mit-spitzer-feder-fuer-die-freiheit-lesung-und-autorengespraech/
LOCATION:Bischöfliche Akademie\, Leonhardstraße 18-20\, Aachen\, 52064\, Deutschland
CATEGORIES:Lesung/Vortrag
END:VEVENT
END:VCALENDAR