BEGIN:VCALENDAR
VERSION:2.0
PRODID:-//Aachen-Termine - ECPv6.15.18//NONSGML v1.0//EN
CALSCALE:GREGORIAN
METHOD:PUBLISH
X-WR-CALNAME:Aachen-Termine
X-ORIGINAL-URL:https://aachen-kalender.de
X-WR-CALDESC:Veranstaltungen für Aachen-Termine
REFRESH-INTERVAL;VALUE=DURATION:PT1H
X-Robots-Tag:noindex
X-PUBLISHED-TTL:PT1H
BEGIN:VTIMEZONE
TZID:Europe/Berlin
BEGIN:DAYLIGHT
TZOFFSETFROM:+0100
TZOFFSETTO:+0200
TZNAME:CEST
DTSTART:20240331T010000
END:DAYLIGHT
BEGIN:STANDARD
TZOFFSETFROM:+0200
TZOFFSETTO:+0100
TZNAME:CET
DTSTART:20241027T010000
END:STANDARD
BEGIN:DAYLIGHT
TZOFFSETFROM:+0100
TZOFFSETTO:+0200
TZNAME:CEST
DTSTART:20250330T010000
END:DAYLIGHT
BEGIN:STANDARD
TZOFFSETFROM:+0200
TZOFFSETTO:+0100
TZNAME:CET
DTSTART:20251026T010000
END:STANDARD
BEGIN:DAYLIGHT
TZOFFSETFROM:+0100
TZOFFSETTO:+0200
TZNAME:CEST
DTSTART:20260329T010000
END:DAYLIGHT
BEGIN:STANDARD
TZOFFSETFROM:+0200
TZOFFSETTO:+0100
TZNAME:CET
DTSTART:20261025T010000
END:STANDARD
END:VTIMEZONE
BEGIN:VEVENT
DTSTART;TZID=Europe/Berlin:20251130T190000
DTEND;TZID=Europe/Berlin:20251130T190000
DTSTAMP:20260419T221305
CREATED:20250827T083927Z
LAST-MODIFIED:20250827T083927Z
UID:10015150-1764529200-1764529200@aachen-kalender.de
SUMMARY:"Die Zauberflöte".
DESCRIPTION:Etwa zehn Jahre später gestaltete dieser gemeinsam mit Peter Cremer den neuen Theaterbau des Theater Aachen. Die berühmten Dekorationen von Schinkels »Zauberflöte« werden zur Inspirationsquelle für den Aachener Künstler Tim Berresheim\, der mit überbordender Fantasie und computergenerierter Kunst die mystisch-verdrehten Welten zwischen rankender Natur\, Tempeln und Sternenhimmeln weiterentwickelt. Gemeinsam mit Regisseurin Geertje Boeden widmet er sich den Rätseln der magischen Märchenoper: Gibt es Gut und Böse? Wem können Tamino\, Papageno und Pamina auf ihrer Reise trauen? Ausgestattet mit magischen Instrumenten\, die die Welt befrieden können\, und großer Hoffnung\, unterwegs auch die Liebe zu finden\, versuchen die drei\, die Machtspiele der Elterngeneration zu überwinden. Eine vielschichtig bildgewaltige »Zauberflöte« in einer Fassung für Schulklassen und die ganze Familie.
URL:https://aachen-kalender.de/event/die-zauberfloete-7/2025-11-30/
LOCATION:Theater Aachen\, Theaterplatz\, Aachen\, 52062\, Deutschland
CATEGORIES:Theater
ATTACH;FMTTYPE=image/jpeg:https://aachen-kalender.de/wp-content/uploads/2024/11/aa_zauberfloete_5-scaled-e1733825337451.jpg
END:VEVENT
END:VCALENDAR