BEGIN:VCALENDAR
VERSION:2.0
PRODID:-//Aachen-Termine - ECPv6.15.18//NONSGML v1.0//EN
CALSCALE:GREGORIAN
METHOD:PUBLISH
X-WR-CALNAME:Aachen-Termine
X-ORIGINAL-URL:https://aachen-kalender.de
X-WR-CALDESC:Veranstaltungen für Aachen-Termine
REFRESH-INTERVAL;VALUE=DURATION:PT1H
X-Robots-Tag:noindex
X-PUBLISHED-TTL:PT1H
BEGIN:VTIMEZONE
TZID:Europe/Berlin
BEGIN:DAYLIGHT
TZOFFSETFROM:+0100
TZOFFSETTO:+0200
TZNAME:CEST
DTSTART:20240331T010000
END:DAYLIGHT
BEGIN:STANDARD
TZOFFSETFROM:+0200
TZOFFSETTO:+0100
TZNAME:CET
DTSTART:20241027T010000
END:STANDARD
BEGIN:DAYLIGHT
TZOFFSETFROM:+0100
TZOFFSETTO:+0200
TZNAME:CEST
DTSTART:20250330T010000
END:DAYLIGHT
BEGIN:STANDARD
TZOFFSETFROM:+0200
TZOFFSETTO:+0100
TZNAME:CET
DTSTART:20251026T010000
END:STANDARD
BEGIN:DAYLIGHT
TZOFFSETFROM:+0100
TZOFFSETTO:+0200
TZNAME:CEST
DTSTART:20260329T010000
END:DAYLIGHT
BEGIN:STANDARD
TZOFFSETFROM:+0200
TZOFFSETTO:+0100
TZNAME:CET
DTSTART:20261025T010000
END:STANDARD
END:VTIMEZONE
BEGIN:VEVENT
DTSTART;TZID=Europe/Berlin:20251031T200000
DTEND;TZID=Europe/Berlin:20251031T200000
DTSTAMP:20260425T125536
CREATED:20241216T110450Z
LAST-MODIFIED:20250922T114036Z
UID:17238-1761940800-1761940800@aachen-kalender.de
SUMMARY:"Die Udo Jürgens Story. Sein Leben\, seine Liebe\, seine Musik!"
DESCRIPTION:Packende Melodien\, ein einzigartiger Charakter und ein unsterbliches Lebenswerk: Udo Jürgens begeisterte auf seinen Tourneen Millionen von Fans. Im Rahmen eines emotionalen Liederabends geht „Die Udo Jürgens Story“ auf Tour – und ist erneut in der Stadthalle Alsdorf zu erleben. Hier bietet sich allen Udo-Jürgens-Fans noch einmal die Gelegenheit\, Leben und Werk ihres Idols noch einmal ganz nahe zu kommen. \nDie musikalische Zeitreise beinhaltet alle großen Hits wie „Mit 66 Jahren“\, „Griechischer Wein“ und „Ich war noch niemals in New York“. Der ausgebildete Pianist Alex Parker singt dabei die Werke des unvergessenen Schlagerbarden\, als stünde dieser persönlich auf der Bühne. Parker gilt nicht grundlos als bekanntester Udo-Jürgens-Interpret im gesamten deutschsprachigen Raum. Schon als 13-Jähriger hat Parker nach eigenem Bekunden angefangen\, Udo Jürgens‘ Songs nachzusingen und dessen nasal geprägte\, einzigartige Klangfarbe seiner Stimme nachzuahmen. Ganz im Stil des Entertainers begleitet er sich selbst am Klavier. \nDen amüsanten\, kurzweiligen und unterhaltsamen Konzertabend im Stile Udo Jürgens‘ hat Gabriela Benesch zusammengestellt\, die im Jahr 2014 in Wien als beste Theaterschauspielerin des Jahres ausgezeichnet wurde. Benesch\, langjährige Freundin der Familie Jürgens\, steht selbst auf der Bühne und erzählt spannende\, humorvolle und auch unbekannte Anekdoten aus den persönlichen Aufzeichnungen des großen Entertainers – und spannt einen Bogen durch das Leben des Österreichers\, beginnend in seiner Kindheit bis ins hohe Alter. Der Konzertabend steht unter der musikalischen Leitung des Regisseurs und Autors Erich Furrer. \nUdo Jürgens\, der 1966 den Grand Prix Eurovision de la Chanson gewann\, feierte mit dem Lied „Merci\, Chérie“ einen Welthit mit Hitparaden-Spitzenpositionen in über 20 Ländern. So wurde der Chansonnier zu einem der bedeutendsten Entertainer des 20. und frühen 21. Jahrhunderts. Mit mehr als 100 Millionen verkauften Tonträgern und über 50 veröffentlichten Musikalben war er einer der kommerziell erfolgreichsten männlichen Solokünstler der Welt. \nTickets sind erhältlich im Kartenhaus Würselen und Alsdorf\, bei allen bekannten Vorverkaufsstellen\, telefonisch unter 02405 / 40 8 60 oder online unter www.meyer-konzerte.de.
URL:https://aachen-kalender.de/event/die-udo-juergens-story-sein-leben-seine-liebe-seine-musik-2/
LOCATION:Stadthalle Alsdorf\, Annastraße 2-6\, Alsdorf\, 52477
CATEGORIES:Musik
ATTACH;FMTTYPE=image/jpeg:https://aachen-kalender.de/wp-content/uploads/2024/12/Die-Udo-Juergens-Story_Pressefoto1_Gabriela-Benesch-Alex-Parker-c-www.beneschfurrer.com_-scaled-e1753795350845.jpeg
END:VEVENT
END:VCALENDAR