BEGIN:VCALENDAR
VERSION:2.0
PRODID:-//Aachen-Termine - ECPv6.15.18//NONSGML v1.0//EN
CALSCALE:GREGORIAN
METHOD:PUBLISH
X-WR-CALNAME:Aachen-Termine
X-ORIGINAL-URL:https://aachen-kalender.de
X-WR-CALDESC:Veranstaltungen für Aachen-Termine
REFRESH-INTERVAL;VALUE=DURATION:PT1H
X-Robots-Tag:noindex
X-PUBLISHED-TTL:PT1H
BEGIN:VTIMEZONE
TZID:Europe/Berlin
BEGIN:DAYLIGHT
TZOFFSETFROM:+0100
TZOFFSETTO:+0200
TZNAME:CEST
DTSTART:20250330T010000
END:DAYLIGHT
BEGIN:STANDARD
TZOFFSETFROM:+0200
TZOFFSETTO:+0100
TZNAME:CET
DTSTART:20251026T010000
END:STANDARD
BEGIN:DAYLIGHT
TZOFFSETFROM:+0100
TZOFFSETTO:+0200
TZNAME:CEST
DTSTART:20260329T010000
END:DAYLIGHT
BEGIN:STANDARD
TZOFFSETFROM:+0200
TZOFFSETTO:+0100
TZNAME:CET
DTSTART:20261025T010000
END:STANDARD
BEGIN:DAYLIGHT
TZOFFSETFROM:+0100
TZOFFSETTO:+0200
TZNAME:CEST
DTSTART:20270328T010000
END:DAYLIGHT
BEGIN:STANDARD
TZOFFSETFROM:+0200
TZOFFSETTO:+0100
TZNAME:CET
DTSTART:20271031T010000
END:STANDARD
END:VTIMEZONE
BEGIN:VEVENT
DTSTART;TZID=Europe/Berlin:20260704T110000
DTEND;TZID=Europe/Berlin:20260704T110000
DTSTAMP:20260421T095915
CREATED:20260407T084937Z
LAST-MODIFIED:20260407T084937Z
UID:56290-1783162800-1783162800@aachen-kalender.de
SUMMARY:"Die Kulinarische Schnitzeljagd in Aachen - Kompakte Tour".
DESCRIPTION:Die Kulinarische Schnitzeljagd ist eine einzigartige Genusstour für jedes Alter. Du erschmeckst Aachen in einer kompakten Tour neu – allein oder mit Freunden\, auf dem Rad oder anders. Bei der kompakten Kulinarischen Schnitzeljagd bekommst du in bis zu 9 persönlich ausgewählten Restaurants\, Cafés und Feinkostläden besondere kulinarische Kostproben. Innerhalb eines Tages hast du 7 Stunden Zeit\, um die Läden individuell in deinem Tempo zu besuchen. Insgesamt sind bis zu 300 weitere Teilnehmer unabhängig voneinander unterwegs. Gemeinsam macht ihr die Kulinarische Schnitzeljagd zu einem einzigartigen Genussevent. \nDetails zum Kartenverkauf:\nDie Teilnahme ist nur mit einem Ticket möglich. Die Tickets kosten 25 EUR im VVK und danach 30 EUR und können bis spätestens Dienstag\, 12 Uhr\, vor der Tour erworben werden. Alle Infos und die Möglichkeit zum Ticketkauf findest du auf unserer Website: https://kulinarische-schnitzeljagd.de/aachen
URL:https://aachen-kalender.de/event/die-kulinarische-schnitzeljagd-in-aachen-kompakte-tour/
LOCATION:Aachen\, Innenstadtbereich\, Aachen
CATEGORIES:Sonstiges
END:VEVENT
END:VCALENDAR