BEGIN:VCALENDAR
VERSION:2.0
PRODID:-//Aachen-Termine - ECPv6.15.18//NONSGML v1.0//EN
CALSCALE:GREGORIAN
METHOD:PUBLISH
X-WR-CALNAME:Aachen-Termine
X-ORIGINAL-URL:https://aachen-kalender.de
X-WR-CALDESC:Veranstaltungen für Aachen-Termine
REFRESH-INTERVAL;VALUE=DURATION:PT1H
X-Robots-Tag:noindex
X-PUBLISHED-TTL:PT1H
BEGIN:VTIMEZONE
TZID:Europe/Berlin
BEGIN:DAYLIGHT
TZOFFSETFROM:+0100
TZOFFSETTO:+0200
TZNAME:CEST
DTSTART:20250330T010000
END:DAYLIGHT
BEGIN:STANDARD
TZOFFSETFROM:+0200
TZOFFSETTO:+0100
TZNAME:CET
DTSTART:20251026T010000
END:STANDARD
BEGIN:DAYLIGHT
TZOFFSETFROM:+0100
TZOFFSETTO:+0200
TZNAME:CEST
DTSTART:20260329T010000
END:DAYLIGHT
BEGIN:STANDARD
TZOFFSETFROM:+0200
TZOFFSETTO:+0100
TZNAME:CET
DTSTART:20261025T010000
END:STANDARD
BEGIN:DAYLIGHT
TZOFFSETFROM:+0100
TZOFFSETTO:+0200
TZNAME:CEST
DTSTART:20270328T010000
END:DAYLIGHT
BEGIN:STANDARD
TZOFFSETFROM:+0200
TZOFFSETTO:+0100
TZNAME:CET
DTSTART:20271031T010000
END:STANDARD
END:VTIMEZONE
BEGIN:VEVENT
DTSTART;TZID=Europe/Berlin:20260416T190000
DTEND;TZID=Europe/Berlin:20260416T190000
DTSTAMP:20260425T124404
CREATED:20260302T132151Z
LAST-MODIFIED:20260302T132151Z
UID:52377-1776366000-1776366000@aachen-kalender.de
SUMMARY:"Die Geschichte des modernen Bulgarien sowie der deutsch-bulgarischen Beziehungen".
DESCRIPTION:Zu den in Deutschland wohl bekanntesten Menschen bulgarischer Herkunft zählen sicher der Antifaschist Georgi Dimitroff\, der Fußballer Christo „El Pistolero“ Stoitschkow sowie der „Weltensammler“ Ilja Trojanow. Berühmt ist das südosteuropäische Land aber natürlich auch für den landschaftlichen Reiz seiner Schwarzmeerküste\, an der bereits zu Zeiten des Kalten Krieges Ost- wie Westdeutsche gleichermaßen Urlaub machten. In seinem auf den Zeitraum von der Staatsgründung 1878 bis zum EU-Beitritt 2007 fokussierten Vortrag zur Landesgeschichte bringt der aus Bulgarien stammende Aachener Vasil Minchev aber auch weniger bekannte Aspekte wie die Rettung der bulgarischen Juden oder den Einfluss Deutschlands auf die politische Kultur des Balkanlands zur Sprache. \n\nvhs\, Peterstraße\, Raum 241\, Forum\nkostenfreie Veranstaltung
URL:https://aachen-kalender.de/event/die-geschichte-des-modernen-bulgarien-sowie-der-deutsch-bulgarischen-beziehungen/
LOCATION:vhs Aachen\, Peterstraße 21-25\, Aachen\, 52062\, Deutschland
CATEGORIES:Lesung/Vortrag
END:VEVENT
END:VCALENDAR