BEGIN:VCALENDAR
VERSION:2.0
PRODID:-//Aachen-Termine - ECPv6.15.18//NONSGML v1.0//EN
CALSCALE:GREGORIAN
METHOD:PUBLISH
X-WR-CALNAME:Aachen-Termine
X-ORIGINAL-URL:https://aachen-kalender.de
X-WR-CALDESC:Veranstaltungen für Aachen-Termine
REFRESH-INTERVAL;VALUE=DURATION:PT1H
X-Robots-Tag:noindex
X-PUBLISHED-TTL:PT1H
BEGIN:VTIMEZONE
TZID:Europe/Berlin
BEGIN:DAYLIGHT
TZOFFSETFROM:+0100
TZOFFSETTO:+0200
TZNAME:CEST
DTSTART:20240331T010000
END:DAYLIGHT
BEGIN:STANDARD
TZOFFSETFROM:+0200
TZOFFSETTO:+0100
TZNAME:CET
DTSTART:20241027T010000
END:STANDARD
BEGIN:DAYLIGHT
TZOFFSETFROM:+0100
TZOFFSETTO:+0200
TZNAME:CEST
DTSTART:20250330T010000
END:DAYLIGHT
BEGIN:STANDARD
TZOFFSETFROM:+0200
TZOFFSETTO:+0100
TZNAME:CET
DTSTART:20251026T010000
END:STANDARD
BEGIN:DAYLIGHT
TZOFFSETFROM:+0100
TZOFFSETTO:+0200
TZNAME:CEST
DTSTART:20260329T010000
END:DAYLIGHT
BEGIN:STANDARD
TZOFFSETFROM:+0200
TZOFFSETTO:+0100
TZNAME:CET
DTSTART:20261025T010000
END:STANDARD
END:VTIMEZONE
BEGIN:VEVENT
DTSTART;TZID=Europe/Berlin:20250628T110000
DTEND;TZID=Europe/Berlin:20250628T110000
DTSTAMP:20260420T172905
CREATED:20250508T084649Z
LAST-MODIFIED:20250508T084802Z
UID:24213-1751108400-1751108400@aachen-kalender.de
SUMMARY:DGGL. Dr. Christoph Ruckert. "Alleenring und Stadtpark - bedeutende Gartendenkmäler in Aachen".
DESCRIPTION:Während der französischen Besetzung Aachens ließ Napoleon I. die im 14. Jahrhundert errichtete äußere Stadtmauer schleifen und einen Alleenring anlegen\, der noch heute den Verlauf der ehemaligen Stadtbefestigung widerspiegelt. An diesen parkartig gestalteten „Straßenring“ schließt sich in Höhe der Monheimsallee der gartenkünstlerisch bedeutende Stadtpark an. Der heutige Park setzt sich aus dem Rosengarten\, dem Stadtgarten\, dem Kurpark\, dem ehemaligen evangelischen Friedhof und dem Farwickpark zusammen. Seine Anfänge gehen auf den von Peter Joseph Lenné Mitte des 19. Jh. entworfenen Garten für das Bürgerkrankenhaus Mariahilf zurück. \nBei dem Spaziergang durch den Park werden die spannende Entwicklungsgeschichte der Anlage\, das Parkpflegewerk und die Zukunft des Stadtparks und der Alleen unter Berücksichtigung des Klimawandels erläutert. \n\nTeilnehmerzahl: Maximal 20 Personen empfohlen – Um Anmeldung wird gebeten per E-Mail an rhein@dggl.org\nTreffpunkt: Peter Joseph Lenné Denkmal vor dem Neuen Kurhaus
URL:https://aachen-kalender.de/event/dggl-dr-christoph-ruckertalleenring-und-stadtpark-bedeutende-gartendenkmaeler-in-aachen/
LOCATION:Lenné Denkmal vor dem Neuen Kurhaus\, Monheimsallee 42\, Aachen\, 52062
CATEGORIES:Führungen
END:VEVENT
END:VCALENDAR