BEGIN:VCALENDAR
VERSION:2.0
PRODID:-//Aachen-Termine - ECPv6.15.18//NONSGML v1.0//EN
CALSCALE:GREGORIAN
METHOD:PUBLISH
X-WR-CALNAME:Aachen-Termine
X-ORIGINAL-URL:https://aachen-kalender.de
X-WR-CALDESC:Veranstaltungen für Aachen-Termine
REFRESH-INTERVAL;VALUE=DURATION:PT1H
X-Robots-Tag:noindex
X-PUBLISHED-TTL:PT1H
BEGIN:VTIMEZONE
TZID:Europe/Berlin
BEGIN:DAYLIGHT
TZOFFSETFROM:+0100
TZOFFSETTO:+0200
TZNAME:CEST
DTSTART:20240331T010000
END:DAYLIGHT
BEGIN:STANDARD
TZOFFSETFROM:+0200
TZOFFSETTO:+0100
TZNAME:CET
DTSTART:20241027T010000
END:STANDARD
BEGIN:DAYLIGHT
TZOFFSETFROM:+0100
TZOFFSETTO:+0200
TZNAME:CEST
DTSTART:20250330T010000
END:DAYLIGHT
BEGIN:STANDARD
TZOFFSETFROM:+0200
TZOFFSETTO:+0100
TZNAME:CET
DTSTART:20251026T010000
END:STANDARD
BEGIN:DAYLIGHT
TZOFFSETFROM:+0100
TZOFFSETTO:+0200
TZNAME:CEST
DTSTART:20260329T010000
END:DAYLIGHT
BEGIN:STANDARD
TZOFFSETFROM:+0200
TZOFFSETTO:+0100
TZNAME:CET
DTSTART:20261025T010000
END:STANDARD
END:VTIMEZONE
BEGIN:VEVENT
DTSTART;TZID=Europe/Berlin:20250509T150000
DTEND;TZID=Europe/Berlin:20250509T160000
DTSTAMP:20260425T124410
CREATED:20250325T134851Z
LAST-MODIFIED:20250325T134904Z
UID:22076-1746802800-1746806400@aachen-kalender.de
SUMMARY:"Deutsch-französische Vorlesestunde: un jour\, une histoire …".
DESCRIPTION:Gemeinsam mit Pauline\, einer französischen Muttersprachlerin\, können Kinder Bilderbücher auf Deutsch und Französisch (einfache Sprache) entdecken und bei einer anschließenden Bastelaktivität selber kreativ werden.\nPauline bringt ihre Gitarre mit. Zusammen werden wir Kinderlieder singen. \nDieses Angebot ermöglicht es den Kindern\, spielerisch eine neue Sprache und Kultur zu entdecken sowie ihre Affinität mit des Lesens und Kreativität zu entwickeln. \n\nAnmeldung erwünscht: kurse@dfki-aachen.de
URL:https://aachen-kalender.de/event/deutsch-franzoesische-vorlesestunde-un-jour-une-histoire-4/
LOCATION:Stadtteilbibliothek DEPOT\, Talstraße 2\, Aachen\, 52068\, Deutschland
CATEGORIES:Familie
END:VEVENT
END:VCALENDAR