BEGIN:VCALENDAR
VERSION:2.0
PRODID:-//Aachen-Termine - ECPv6.15.18//NONSGML v1.0//EN
CALSCALE:GREGORIAN
METHOD:PUBLISH
X-WR-CALNAME:Aachen-Termine
X-ORIGINAL-URL:https://aachen-kalender.de
X-WR-CALDESC:Veranstaltungen für Aachen-Termine
REFRESH-INTERVAL;VALUE=DURATION:PT1H
X-Robots-Tag:noindex
X-PUBLISHED-TTL:PT1H
BEGIN:VTIMEZONE
TZID:Europe/Berlin
BEGIN:DAYLIGHT
TZOFFSETFROM:+0100
TZOFFSETTO:+0200
TZNAME:CEST
DTSTART:20250330T010000
END:DAYLIGHT
BEGIN:STANDARD
TZOFFSETFROM:+0200
TZOFFSETTO:+0100
TZNAME:CET
DTSTART:20251026T010000
END:STANDARD
BEGIN:DAYLIGHT
TZOFFSETFROM:+0100
TZOFFSETTO:+0200
TZNAME:CEST
DTSTART:20260329T010000
END:DAYLIGHT
BEGIN:STANDARD
TZOFFSETFROM:+0200
TZOFFSETTO:+0100
TZNAME:CET
DTSTART:20261025T010000
END:STANDARD
BEGIN:DAYLIGHT
TZOFFSETFROM:+0100
TZOFFSETTO:+0200
TZNAME:CEST
DTSTART:20270328T010000
END:DAYLIGHT
BEGIN:STANDARD
TZOFFSETFROM:+0200
TZOFFSETTO:+0100
TZNAME:CET
DTSTART:20271031T010000
END:STANDARD
END:VTIMEZONE
BEGIN:VEVENT
DTSTART;TZID=Europe/Berlin:20260305T200000
DTEND;TZID=Europe/Berlin:20260305T200000
DTSTAMP:20260419T175620
CREATED:20260108T122744Z
LAST-MODIFIED:20260115T095455Z
UID:46129-1772740800-1772740800@aachen-kalender.de
SUMMARY:"schrit_tmacher-Festival". Sasha Waltz & Guests (DE) & Philzuid (NL)."In C".
DESCRIPTION:1964 komponierte Terry Riley das revolutionäre Werk „In C“\, das als erstes Stück minimalistischer Musik gilt. Es besteht aus 53 musikalischen Mustern\, die in fester Reihenfolge gespielt werden. Choreografin Sasha Waltz übertrug dieses Prinzip auf den Tanz: Ihr „In C“ umfasst 53 choreografische Figuren\, die die Tänzer*innen nacheinander durchlaufen. Jeder entscheidet selbst\, wann er oder sie zur nächsten Figur übergeht\, bleibt dabei jedoch in Beziehung zur Gruppe und zu den acht Live-Musiker*innen. So entsteht ein sich ständig wandelndes\, einzigartiges Geflecht aus Bewegung und Klang. \n\nKarten: https://schrittmacher.reservix.de/p/reservix/event/2497308\n\nVom 24. Februar bis zum 29. März 2026 steht die Euregio erneut ganz im Zeichen des internationalen zeitgenössischen Tanzes. Das schrit_tmacher Festival ist ein grenzüberschreitendes Tanzfestival mit Veranstaltungen an verschiedenen Orten in den Niederlanden\, Deutschland und Belgien. Das Programm vereint überraschende Choreograf*innen\, renommierte Compagnien und innovative Produktionen. \n  \n  \n 
URL:https://aachen-kalender.de/event/das-schrit_tmacher-festival-2026-sasha-waltz-guests-de-philzuid-nl-in-c/
LOCATION:Theater Heerlen\, Burgemeester van Grunsvenplein 145\, Heerlen\, Netherlands
CATEGORIES:Tanz
ATTACH;FMTTYPE=image/jpeg:https://aachen-kalender.de/wp-content/uploads/2025/11/24Feb_ab_SchrittmacherFestival-e1771404360457.jpg
END:VEVENT
END:VCALENDAR