BEGIN:VCALENDAR
VERSION:2.0
PRODID:-//Aachen-Termine - ECPv6.15.18//NONSGML v1.0//EN
CALSCALE:GREGORIAN
METHOD:PUBLISH
X-WR-CALNAME:Aachen-Termine
X-ORIGINAL-URL:https://aachen-kalender.de
X-WR-CALDESC:Veranstaltungen für Aachen-Termine
REFRESH-INTERVAL;VALUE=DURATION:PT1H
X-Robots-Tag:noindex
X-PUBLISHED-TTL:PT1H
BEGIN:VTIMEZONE
TZID:Europe/Berlin
BEGIN:DAYLIGHT
TZOFFSETFROM:+0100
TZOFFSETTO:+0200
TZNAME:CEST
DTSTART:20250330T010000
END:DAYLIGHT
BEGIN:STANDARD
TZOFFSETFROM:+0200
TZOFFSETTO:+0100
TZNAME:CET
DTSTART:20251026T010000
END:STANDARD
BEGIN:DAYLIGHT
TZOFFSETFROM:+0100
TZOFFSETTO:+0200
TZNAME:CEST
DTSTART:20260329T010000
END:DAYLIGHT
BEGIN:STANDARD
TZOFFSETFROM:+0200
TZOFFSETTO:+0100
TZNAME:CET
DTSTART:20261025T010000
END:STANDARD
BEGIN:DAYLIGHT
TZOFFSETFROM:+0100
TZOFFSETTO:+0200
TZNAME:CEST
DTSTART:20270328T010000
END:DAYLIGHT
BEGIN:STANDARD
TZOFFSETFROM:+0200
TZOFFSETTO:+0100
TZNAME:CET
DTSTART:20271031T010000
END:STANDARD
END:VTIMEZONE
BEGIN:VEVENT
DTSTART;TZID=Europe/Berlin:20260207T150000
DTEND;TZID=Europe/Berlin:20260207T150000
DTSTAMP:20260423T133543
CREATED:20260106T092425Z
LAST-MODIFIED:20260106T092425Z
UID:45682-1770476400-1770476400@aachen-kalender.de
SUMMARY:"Das Grashaus - Im Wandel der Zeiten".
DESCRIPTION:Das Grashaus am Fischmarkt ist die Station „Europa“ der Route Charlemagne. Als eines der ältesten Gebäude Aachens\, als erstes Rathaus der Stadt und nach mehr als einem Jahrhundert Nutzung als Stadtarchiv ist es nun zu einem außerschulischen Lernort umgestaltet worden. Im „Europäischen Klassenzimmer“ wird das Thema „Europa“ in seinen historischen\, aktuellen und zukunftsweisenden Dimensionen vermittelt. Schülerinnen und Schüler (ab Sek 1) sind eingeladen\, sich mit der Geschichte Europas zu beschäftigen und die europäische Gegenwart und Zukunft gemeinsam zu diskutieren. \n  \n\nAnmeldung unter Telefon: 0241/432-4998\nKartenvorverkauf:\nDa die Teilnehmerzahl begrenzt ist\, wird um Anmeldung gebeten\, telefonisch unter Tel.: +49 241 432-4998 oder an museumsdienst@mail.aachen.de
URL:https://aachen-kalender.de/event/das-grashaus-im-wandel-der-zeiten-30/
LOCATION:Grashaus\, Fischmarkt\, Aachen\, 52062\, Deutschland
CATEGORIES:Führungen
END:VEVENT
END:VCALENDAR