BEGIN:VCALENDAR
VERSION:2.0
PRODID:-//Aachen-Termine - ECPv6.15.18//NONSGML v1.0//EN
CALSCALE:GREGORIAN
METHOD:PUBLISH
X-WR-CALNAME:Aachen-Termine
X-ORIGINAL-URL:https://aachen-kalender.de
X-WR-CALDESC:Veranstaltungen für Aachen-Termine
REFRESH-INTERVAL;VALUE=DURATION:PT1H
X-Robots-Tag:noindex
X-PUBLISHED-TTL:PT1H
BEGIN:VTIMEZONE
TZID:Europe/Berlin
BEGIN:DAYLIGHT
TZOFFSETFROM:+0100
TZOFFSETTO:+0200
TZNAME:CEST
DTSTART:20250330T010000
END:DAYLIGHT
BEGIN:STANDARD
TZOFFSETFROM:+0200
TZOFFSETTO:+0100
TZNAME:CET
DTSTART:20251026T010000
END:STANDARD
BEGIN:DAYLIGHT
TZOFFSETFROM:+0100
TZOFFSETTO:+0200
TZNAME:CEST
DTSTART:20260329T010000
END:DAYLIGHT
BEGIN:STANDARD
TZOFFSETFROM:+0200
TZOFFSETTO:+0100
TZNAME:CET
DTSTART:20261025T010000
END:STANDARD
BEGIN:DAYLIGHT
TZOFFSETFROM:+0100
TZOFFSETTO:+0200
TZNAME:CEST
DTSTART:20270328T010000
END:DAYLIGHT
BEGIN:STANDARD
TZOFFSETFROM:+0200
TZOFFSETTO:+0100
TZNAME:CET
DTSTART:20271031T010000
END:STANDARD
END:VTIMEZONE
BEGIN:VEVENT
DTSTART;TZID=Europe/Berlin:20260607T200000
DTEND;TZID=Europe/Berlin:20260607T200000
DTSTAMP:20260424T121056
CREATED:20251126T092914Z
LAST-MODIFIED:20260218T142410Z
UID:10018319-1780862400-1780862400@aachen-kalender.de
SUMMARY:Das Da Theater. "Romeo & Julia – das Pop-Rock-Musical".
DESCRIPTION:Im Juni 2026 erleben Sie die wohl bekannteste Liebesgeschichte als einzigartiges Sommer-Musical auf Burg Wilhelmstein. „Romeo & Julia – das Pop-Rock-Musical“ erzählt die romantisch-tragische Geschichte Shakespeares in der besonderen Kombination von historischen Kostümen und Sprache mit kraftvollen Rock- und Popsongs. \nEin Sommer im Verona des 16. Jahrhunderts. Auf einem Maskenball begegnen und verlieben sich der junge Romeo und die junge Julia. Doch ihre Familien\, die Montagues und die Capulets\, sind verfeindet. Nach ihrer geheimen Hochzeit eskaliert der Konflikt\, und Romeo wird verbannt. Um mit ihrem Geliebten fliehen zu können\, täuscht Julia ihren Tod vor. Doch dann kommt alles ganz anders als gedacht. \nErleben Sie bewegende Emotionen mit unserem gesangsstarken Ensemble\, das jeden Abend live von der DAS DA-Band begleitet wird. Unsere Neuinterpretation des weltbekannten Dramas von William Shakespeare schlägt eine Brücke zwischen Vergangenheit und Gegenwart. Denn sie erzählt von zeitlosen Themen wie Liebe\, Verlust und Versöhnung.
URL:https://aachen-kalender.de/event/das-da-theater-romeo-julia-das-pop-rock-musical/2026-06-07/
LOCATION:Burg Wilhelmstein\, An Wilhelmstein\, Würselen\, 52146
CATEGORIES:Theater
ATTACH;FMTTYPE=image/jpeg:https://aachen-kalender.de/wp-content/uploads/2025/05/38_DasDA_RomeoJulia_alle.jpg
END:VEVENT
END:VCALENDAR