BEGIN:VCALENDAR
VERSION:2.0
PRODID:-//Aachen-Termine - ECPv6.15.18//NONSGML v1.0//EN
CALSCALE:GREGORIAN
METHOD:PUBLISH
X-WR-CALNAME:Aachen-Termine
X-ORIGINAL-URL:https://aachen-kalender.de
X-WR-CALDESC:Veranstaltungen für Aachen-Termine
REFRESH-INTERVAL;VALUE=DURATION:PT1H
X-Robots-Tag:noindex
X-PUBLISHED-TTL:PT1H
BEGIN:VTIMEZONE
TZID:Europe/Berlin
BEGIN:DAYLIGHT
TZOFFSETFROM:+0100
TZOFFSETTO:+0200
TZNAME:CEST
DTSTART:20240331T010000
END:DAYLIGHT
BEGIN:STANDARD
TZOFFSETFROM:+0200
TZOFFSETTO:+0100
TZNAME:CET
DTSTART:20241027T010000
END:STANDARD
BEGIN:DAYLIGHT
TZOFFSETFROM:+0100
TZOFFSETTO:+0200
TZNAME:CEST
DTSTART:20250330T010000
END:DAYLIGHT
BEGIN:STANDARD
TZOFFSETFROM:+0200
TZOFFSETTO:+0100
TZNAME:CET
DTSTART:20251026T010000
END:STANDARD
BEGIN:DAYLIGHT
TZOFFSETFROM:+0100
TZOFFSETTO:+0200
TZNAME:CEST
DTSTART:20260329T010000
END:DAYLIGHT
BEGIN:STANDARD
TZOFFSETFROM:+0200
TZOFFSETTO:+0100
TZNAME:CET
DTSTART:20261025T010000
END:STANDARD
END:VTIMEZONE
BEGIN:VEVENT
DTSTART;TZID=Europe/Berlin:20250906T160000
DTEND;TZID=Europe/Berlin:20250906T160000
DTSTAMP:20260425T142700
CREATED:20250625T072627Z
LAST-MODIFIED:20250721T110306Z
UID:10013607-1757174400-1757174400@aachen-kalender.de
SUMMARY:"Der verhexte Zirkus". Kids ab 4 Jahren.
DESCRIPTION:Im Theater Brand wird’s magisch: Mit Der verhexte Zirkus bringen Kinder im Alter von 8 bis 11 Jahren ein fantasievolles Theaterstück auf die Bühne. Was als normale Zirkusvorstellung beginnt\, gerät bald aus dem Ruder. Clowns vergessen ihren Text\, Tricks laufen schief\, und schnell ist klar: Hier wurde mächtig gezaubert! Mit viel Witz\, Spielfreude und eigenen Ideen der jungen Darsteller verspricht das 55-minütige Stück ein buntes Familienerlebnis voller Überraschungen und Zirkusatmosphäre.
URL:https://aachen-kalender.de/event/claudia-kumpfe-der-verhexte-zirkus/2025-09-06/
LOCATION:Theater Brand\, Freunder Heideweg 3\, Aachen\, 52078\, Deutschland
CATEGORIES:Familie
ATTACH;FMTTYPE=image/jpeg:https://aachen-kalender.de/wp-content/uploads/2025/06/DerVerhexteZirkus_Flyer-1-e1753095739426.jpg
END:VEVENT
END:VCALENDAR