BEGIN:VCALENDAR
VERSION:2.0
PRODID:-//Aachen-Termine - ECPv6.15.18//NONSGML v1.0//EN
CALSCALE:GREGORIAN
METHOD:PUBLISH
X-WR-CALNAME:Aachen-Termine
X-ORIGINAL-URL:https://aachen-kalender.de
X-WR-CALDESC:Veranstaltungen für Aachen-Termine
REFRESH-INTERVAL;VALUE=DURATION:PT1H
X-Robots-Tag:noindex
X-PUBLISHED-TTL:PT1H
BEGIN:VTIMEZONE
TZID:Europe/Berlin
BEGIN:DAYLIGHT
TZOFFSETFROM:+0100
TZOFFSETTO:+0200
TZNAME:CEST
DTSTART:20250330T010000
END:DAYLIGHT
BEGIN:STANDARD
TZOFFSETFROM:+0200
TZOFFSETTO:+0100
TZNAME:CET
DTSTART:20251026T010000
END:STANDARD
BEGIN:DAYLIGHT
TZOFFSETFROM:+0100
TZOFFSETTO:+0200
TZNAME:CEST
DTSTART:20260329T010000
END:DAYLIGHT
BEGIN:STANDARD
TZOFFSETFROM:+0200
TZOFFSETTO:+0100
TZNAME:CET
DTSTART:20261025T010000
END:STANDARD
BEGIN:DAYLIGHT
TZOFFSETFROM:+0100
TZOFFSETTO:+0200
TZNAME:CEST
DTSTART:20270328T010000
END:DAYLIGHT
BEGIN:STANDARD
TZOFFSETFROM:+0200
TZOFFSETTO:+0100
TZNAME:CET
DTSTART:20271031T010000
END:STANDARD
END:VTIMEZONE
BEGIN:VEVENT
DTSTART;TZID=Europe/Berlin:20260122T180000
DTEND;TZID=Europe/Berlin:20260122T180000
DTSTAMP:20260419T204917
CREATED:20251202T090330Z
LAST-MODIFIED:20251202T090406Z
UID:42362-1769104800-1769104800@aachen-kalender.de
SUMMARY:CINEvhs global. "Mami Wata".
DESCRIPTION:Iyi ist ein kleines Dorf am Golf von Guinea. Abgeschnitten von der Außenwelt leben die Menschen tief in der eigenen Kultur verwurzelt. Stolz tragen sie ihr leuchtend weißes Make-up und ehren die Göttin Mami Wata\, die ihnen Schutz und Glück bringen soll. Der Name des Wassergeists stammt aus dem Pidgin-Englisch\, steht für „Mutter des Wassers“ und hat sich sogar in der Karibik auf der anderen Seite des Atlantiks erhalten. Ihren eigenen Reichtum vertrauen die Menschen Mama Efe an\, die als Vermittlerin für die Gottheit auf Erden amtet. Als die Zeit kommt\, in der eine ihrer Töchter aktiv werden soll\, treten Spannungen in der Familie auf. Und als ein Junge stirbt\, werden Mama Efes Kräfte und die Existenz der Göttin in Frage gestellt. \n\nTickets unter www.apollo-aachen.de
URL:https://aachen-kalender.de/event/cinevhs-global-mami-wata/
LOCATION:Apollo\, Pontstraße 141\, Aachen\, 52062\, Deutschland
CATEGORIES:Sonstiges
ATTACH;FMTTYPE=image/jpeg:https://aachen-kalender.de/wp-content/uploads/2025/07/CINEvhs-global-by-Evangelos-Rodoulis-vhs-Aachen-scaled-e1754393279536.jpg
END:VEVENT
END:VCALENDAR