BEGIN:VCALENDAR
VERSION:2.0
PRODID:-//Aachen-Termine - ECPv6.15.18//NONSGML v1.0//EN
CALSCALE:GREGORIAN
METHOD:PUBLISH
X-WR-CALNAME:Aachen-Termine
X-ORIGINAL-URL:https://aachen-kalender.de
X-WR-CALDESC:Veranstaltungen für Aachen-Termine
REFRESH-INTERVAL;VALUE=DURATION:PT1H
X-Robots-Tag:noindex
X-PUBLISHED-TTL:PT1H
BEGIN:VTIMEZONE
TZID:Europe/Berlin
BEGIN:DAYLIGHT
TZOFFSETFROM:+0100
TZOFFSETTO:+0200
TZNAME:CEST
DTSTART:20250330T010000
END:DAYLIGHT
BEGIN:STANDARD
TZOFFSETFROM:+0200
TZOFFSETTO:+0100
TZNAME:CET
DTSTART:20251026T010000
END:STANDARD
BEGIN:DAYLIGHT
TZOFFSETFROM:+0100
TZOFFSETTO:+0200
TZNAME:CEST
DTSTART:20260329T010000
END:DAYLIGHT
BEGIN:STANDARD
TZOFFSETFROM:+0200
TZOFFSETTO:+0100
TZNAME:CET
DTSTART:20261025T010000
END:STANDARD
BEGIN:DAYLIGHT
TZOFFSETFROM:+0100
TZOFFSETTO:+0200
TZNAME:CEST
DTSTART:20270328T010000
END:DAYLIGHT
BEGIN:STANDARD
TZOFFSETFROM:+0200
TZOFFSETTO:+0100
TZNAME:CET
DTSTART:20271031T010000
END:STANDARD
END:VTIMEZONE
BEGIN:VEVENT
DTSTART;TZID=Europe/Berlin:20260909T193000
DTEND;TZID=Europe/Berlin:20260909T193000
DTSTAMP:20260423T122646
CREATED:20260225T114238Z
LAST-MODIFIED:20260225T114238Z
UID:51815-1788982200-1788982200@aachen-kalender.de
SUMMARY:Benefizshow. "RebellComedy & friends".
DESCRIPTION:Lachen\, feiern\, Gutes tun!\nSeit 2021 verbindet RebellComedy & friends mitreißenden Humor und eine große Portion Herz. Was als einmaliges Benefizprojekt begann\, hat sich längst zu einer festen Größe in der Region entwickelt. Auch 2026 kehren Rebellen und handverlesene »friends« zurück auf die schönste Würselener Freilichtbühne der Welt … für einen Abend voller Energie\, Humor und Gemeinschaft zugunsten der Hospizstiftung Region Aachen.\nIn diesem Jahr stehen neben Moderator Khalid Bounouar die Rebellen der ersten Stunde Benaissa Lamroubal und Ususmango auf der Bühne. Sie werden begleitet von Fabian Lampert\, Brahim Foryou\, Erhanxo\, sowie der Kölner Hitmaschine Dan O’Clock.\nAlle Einnahmen der Veranstaltung gehen vollständig an die Hospizstiftung Region Aachen zur Förderung der Versorgung in unserer Region. Euer Beitrag ermöglicht die Unterstützung wichtiger Projekte wie die mobile Ethikberatung oder die Koordinationsstelle für Kinder- und Jugendtrauer: Engagement\, das bewegt und in der gesamten Region spürbar ist.\nSeit dem Start der Benefizshow konnten in fünf Jahren bereits über 33.900 Euro für die Hospizstiftung gesammelt werden. Ein bemerkenswertes Ergebnis\, das zeigt\, was entsteht\, wenn Menschen gemeinsam lachen und gleichzeitig Gutes tun. Die einzigartige Atmosphäre der Freilichtbühne Burg Wilhelmstein trägt dazu bei\, jeden dieser Abende unvergesslich zu machen.\n2026 knüpft RebellComedy & friends an diese Erfolgsgeschichte an.\nMit frischen Gags und vertrauten Gesichtern wird es ein Abend\, der bleibt – voll Herz und Humor. Es wird legendär!
URL:https://aachen-kalender.de/event/benefizshow-rebellcomedy-friends/
LOCATION:Burg Wilhelmstein\, An Wilhelmstein\, Würselen\, 52146
ATTACH;FMTTYPE=image/jpeg:https://aachen-kalender.de/wp-content/uploads/2026/02/RebellComedy.jpg
END:VEVENT
END:VCALENDAR