BEGIN:VCALENDAR
VERSION:2.0
PRODID:-//Aachen-Termine - ECPv6.15.18//NONSGML v1.0//EN
CALSCALE:GREGORIAN
METHOD:PUBLISH
X-WR-CALNAME:Aachen-Termine
X-ORIGINAL-URL:https://aachen-kalender.de
X-WR-CALDESC:Veranstaltungen für Aachen-Termine
REFRESH-INTERVAL;VALUE=DURATION:PT1H
X-Robots-Tag:noindex
X-PUBLISHED-TTL:PT1H
BEGIN:VTIMEZONE
TZID:Europe/Berlin
BEGIN:DAYLIGHT
TZOFFSETFROM:+0100
TZOFFSETTO:+0200
TZNAME:CEST
DTSTART:20250330T010000
END:DAYLIGHT
BEGIN:STANDARD
TZOFFSETFROM:+0200
TZOFFSETTO:+0100
TZNAME:CET
DTSTART:20251026T010000
END:STANDARD
BEGIN:DAYLIGHT
TZOFFSETFROM:+0100
TZOFFSETTO:+0200
TZNAME:CEST
DTSTART:20260329T010000
END:DAYLIGHT
BEGIN:STANDARD
TZOFFSETFROM:+0200
TZOFFSETTO:+0100
TZNAME:CET
DTSTART:20261025T010000
END:STANDARD
BEGIN:DAYLIGHT
TZOFFSETFROM:+0100
TZOFFSETTO:+0200
TZNAME:CEST
DTSTART:20270328T010000
END:DAYLIGHT
BEGIN:STANDARD
TZOFFSETFROM:+0200
TZOFFSETTO:+0100
TZNAME:CET
DTSTART:20271031T010000
END:STANDARD
END:VTIMEZONE
BEGIN:VEVENT
DTSTART;TZID=Europe/Berlin:20260217T193000
DTEND;TZID=Europe/Berlin:20260217T193000
DTSTAMP:20260419T162853
CREATED:20250923T125327Z
LAST-MODIFIED:20260119T114318Z
UID:34088-1771356600-1771356600@aachen-kalender.de
SUMMARY:AKV-Theaterball. "Des Prinzen letzter Tanz".
DESCRIPTION:Den Schlusspunkt hinter die Session setzt der Aachener Karnevalsverein (AKV) traditionell mit seinem großen Theaterball im Theater Aachen. Der Abend am Karnevalsdienstag\, 17. Februar\, steht ab 19.30 Uhr unter dem Motto Des Prinzen letzter Tanz. Das Publikum darf sich in Abendgarderobe auf schräge Komik und Musik ebenso freuen wie auf Tanz und Öcher Flair. Unter anderem gestalten Wolfgang Trepper\, Liselotte Lotterlappen und Khalid Bounouar in gewohnt frecher Manier den bunten Abend\, zu dem auch Deschawü\, Jonas Dumke vom Theater Aachen\, die Oecher Stadtmusikanten\, das AKV-Ballett und viele mehr bei­tragen. Das Programm bietet einen fröhlichen Übergang in den leider unvermeidlichen Aschermittwoch. Auf den letzten Auftritt der Öcher Tollität samt Hofstaat folgt um Punkt Mitternacht die Entthronisierung von Prinz Lukas I. als dramaturgischer und tränenreicher Höhepunkt der Veran­staltung. Sie ist mit ihrer bunten Mischung aus Theater\, Kleinkunst und Karneval sowie den für das Theater Aachen eher ungewöhnlichen\, lautstark mitfeiernden Gästen ein Event\, das jeder Jeck einmal erlebt haben sollte. Informationen gibt es unter www.akv.de. Tickets für alle AKV-Veranstaltungen können ganz einfach online unter akv.ticket.io gekauft werden.
URL:https://aachen-kalender.de/event/akv-theaterball-des-prinzen-letzter-tanz-2/
LOCATION:Theater Aachen\, Theaterplatz\, Aachen\, 52062\, Deutschland
CATEGORIES:Karneval
ATTACH;FMTTYPE=image/jpeg:https://aachen-kalender.de/wp-content/uploads/2024/12/ANS-akv-theaterball-2024-0189-e1737454450691.jpg
END:VEVENT
END:VCALENDAR