BEGIN:VCALENDAR
VERSION:2.0
PRODID:-//Aachen-Termine - ECPv6.15.18//NONSGML v1.0//EN
CALSCALE:GREGORIAN
METHOD:PUBLISH
X-WR-CALNAME:Aachen-Termine
X-ORIGINAL-URL:https://aachen-kalender.de
X-WR-CALDESC:Veranstaltungen für Aachen-Termine
REFRESH-INTERVAL;VALUE=DURATION:PT1H
X-Robots-Tag:noindex
X-PUBLISHED-TTL:PT1H
BEGIN:VTIMEZONE
TZID:Europe/Berlin
BEGIN:DAYLIGHT
TZOFFSETFROM:+0100
TZOFFSETTO:+0200
TZNAME:CEST
DTSTART:20250330T010000
END:DAYLIGHT
BEGIN:STANDARD
TZOFFSETFROM:+0200
TZOFFSETTO:+0100
TZNAME:CET
DTSTART:20251026T010000
END:STANDARD
BEGIN:DAYLIGHT
TZOFFSETFROM:+0100
TZOFFSETTO:+0200
TZNAME:CEST
DTSTART:20260329T010000
END:DAYLIGHT
BEGIN:STANDARD
TZOFFSETFROM:+0200
TZOFFSETTO:+0100
TZNAME:CET
DTSTART:20261025T010000
END:STANDARD
BEGIN:DAYLIGHT
TZOFFSETFROM:+0100
TZOFFSETTO:+0200
TZNAME:CEST
DTSTART:20270328T010000
END:DAYLIGHT
BEGIN:STANDARD
TZOFFSETFROM:+0200
TZOFFSETTO:+0100
TZNAME:CET
DTSTART:20271031T010000
END:STANDARD
END:VTIMEZONE
BEGIN:VEVENT
DTSTART;TZID=Europe/Berlin:20260114T193000
DTEND;TZID=Europe/Berlin:20260114T193000
DTSTAMP:20260424T101643
CREATED:20251208T100124Z
LAST-MODIFIED:20251217T141259Z
UID:43123-1768419000-1768419000@aachen-kalender.de
SUMMARY:AAK. "Ökumenischer Eröffnungsgottesdienst".
DESCRIPTION:Traditionell veranstaltet der FestAusschuss Aachener Karneval (AAK) am Mittwoch\, 14. Januar\, um 19.30 Uhr in der Citykirche St. Nikolaus einen ökumenischen Gottesdienst zur Sessionseröffnung. Pfarrer Armin Drack und Diakon Mathias Dederichs zelebrieren den Wortgottesdienst auf Öcher Platt. Eingeladen sind alle Fastelovvendsjecke in bunten Kostümen und Uniformen. Die frisch proklamierten Öcher Narrenherrscher sowie die Aachener Stadtteiltollitäten sind beim Gottesdienst dabei. Weitere Mitwirkende sind in diesem Jahr wieder viele bekannte Gesichter aus dem Öcher Fastelovvend und der lokalen Mundartszene.
URL:https://aachen-kalender.de/event/aak-oekumenische-eroeffnungsgottesdienst/
LOCATION:Citykirche St. Nikolaus\, Großkölnstraße\, Aachen\, 52062\, Deutschland
CATEGORIES:Karneval
ATTACH;FMTTYPE=image/jpeg:https://aachen-kalender.de/wp-content/uploads/2025/12/14Jan_AAK-Gottesdienst.jpg
END:VEVENT
END:VCALENDAR